BEGIN:VCALENDAR
VERSION:2.0
PRODID:-//Doktor Bergström - ECPv6.15.20//NONSGML v1.0//EN
CALSCALE:GREGORIAN
METHOD:PUBLISH
X-WR-CALNAME:Doktor Bergström
X-ORIGINAL-URL:https://anbe.se
X-WR-CALDESC:Händelser för Doktor Bergström
REFRESH-INTERVAL;VALUE=DURATION:PT1H
X-Robots-Tag:noindex
X-PUBLISHED-TTL:PT1H
BEGIN:VTIMEZONE
TZID:Europe/Stockholm
BEGIN:DAYLIGHT
TZOFFSETFROM:+0100
TZOFFSETTO:+0200
TZNAME:CEST
DTSTART:20230326T010000
END:DAYLIGHT
BEGIN:STANDARD
TZOFFSETFROM:+0200
TZOFFSETTO:+0100
TZNAME:CET
DTSTART:20231029T010000
END:STANDARD
BEGIN:DAYLIGHT
TZOFFSETFROM:+0100
TZOFFSETTO:+0200
TZNAME:CEST
DTSTART:20240331T010000
END:DAYLIGHT
BEGIN:STANDARD
TZOFFSETFROM:+0200
TZOFFSETTO:+0100
TZNAME:CET
DTSTART:20241027T010000
END:STANDARD
BEGIN:DAYLIGHT
TZOFFSETFROM:+0100
TZOFFSETTO:+0200
TZNAME:CEST
DTSTART:20250330T010000
END:DAYLIGHT
BEGIN:STANDARD
TZOFFSETFROM:+0200
TZOFFSETTO:+0100
TZNAME:CET
DTSTART:20251026T010000
END:STANDARD
END:VTIMEZONE
BEGIN:VEVENT
DTSTART;VALUE=DATE:20240418
DTEND;VALUE=DATE:20240421
DTSTAMP:20260423T030556
CREATED:20230624T141925Z
LAST-MODIFIED:20241103T191504Z
UID:1024-1713398400-1713657599@anbe.se
SUMMARY:POSTPONED: 12th International Congress on Glaucoma Surgery
DESCRIPTION:the 12th ICGS CONGRESS  \nhas been postponed to \nApril 18-20\, 2024  \nat Hilton Abu Dhabi Yas Island 
URL:https://anbe.se/event/12th-international-congress-on-glaucoma-surgery/
LOCATION:Hilton Abu Dhabi\, Yas Island\, Abu Dhabi\, Förenade Arabemiraten
CATEGORIES:Glaucoma Surgery
ATTACH;FMTTYPE=image/jpeg:https://anbe.se/wp-content/uploads/ISGS.jpg
END:VEVENT
END:VCALENDAR