BEGIN:VCALENDAR
VERSION:2.0
PRODID:-//Doktor Bergström - ECPv6.15.20//NONSGML v1.0//EN
CALSCALE:GREGORIAN
METHOD:PUBLISH
X-ORIGINAL-URL:https://anbe.se
X-WR-CALDESC:Händelser för Doktor Bergström
REFRESH-INTERVAL;VALUE=DURATION:PT1H
X-Robots-Tag:noindex
X-PUBLISHED-TTL:PT1H
BEGIN:VTIMEZONE
TZID:Europe/Stockholm
BEGIN:DAYLIGHT
TZOFFSETFROM:+0100
TZOFFSETTO:+0200
TZNAME:CEST
DTSTART:20230326T010000
END:DAYLIGHT
BEGIN:STANDARD
TZOFFSETFROM:+0200
TZOFFSETTO:+0100
TZNAME:CET
DTSTART:20231029T010000
END:STANDARD
BEGIN:DAYLIGHT
TZOFFSETFROM:+0100
TZOFFSETTO:+0200
TZNAME:CEST
DTSTART:20240331T010000
END:DAYLIGHT
BEGIN:STANDARD
TZOFFSETFROM:+0200
TZOFFSETTO:+0100
TZNAME:CET
DTSTART:20241027T010000
END:STANDARD
BEGIN:DAYLIGHT
TZOFFSETFROM:+0100
TZOFFSETTO:+0200
TZNAME:CEST
DTSTART:20250330T010000
END:DAYLIGHT
BEGIN:STANDARD
TZOFFSETFROM:+0200
TZOFFSETTO:+0100
TZNAME:CET
DTSTART:20251026T010000
END:STANDARD
END:VTIMEZONE
BEGIN:VEVENT
DTSTART;VALUE=DATE:20241127
DTEND;VALUE=DATE:20241130
DTSTAMP:20260421T181715
CREATED:20210613T201037Z
LAST-MODIFIED:20221002T181137Z
UID:414-1732665600-1732924799@anbe.se
SUMMARY:OB (Ophthalmologica Belgica) Congress 2024
DESCRIPTION:
URL:https://anbe.se/event/ophthalmologica-belgica-congress-2024/
LOCATION:Brüssel\, Germany
CATEGORIES:Ophthalmology
ATTACH;FMTTYPE=image/jpeg:https://anbe.se/wp-content/uploads/AOB-logo.jpg
END:VEVENT
BEGIN:VEVENT
DTSTART;VALUE=DATE:20241129
DTEND;VALUE=DATE:20241201
DTSTAMP:20260421T181715
CREATED:20240918T131943Z
LAST-MODIFIED:20241103T191319Z
UID:1072-1732838400-1733011199@anbe.se
SUMMARY:APSOPRS (Asia Pacific Society of Ophthalmic Plastic and Reconstructive Surgery) 2024
DESCRIPTION:
URL:https://anbe.se/event/apsoprs-asia-pacific-society-of-ophthalmic-plastic-and-reconstructive-surgery-2024/
LOCATION:Seoul\, Korea\, Republic of
CATEGORIES:Oculoplastic/Reconstructive
ATTACH;FMTTYPE=image/png:https://anbe.se/wp-content/uploads/APSOPRS-logo.png
END:VEVENT
END:VCALENDAR