BEGIN:VCALENDAR
VERSION:2.0
PRODID:-//Doktor Bergström - ECPv6.15.20//NONSGML v1.0//EN
CALSCALE:GREGORIAN
METHOD:PUBLISH
X-WR-CALNAME:Doktor Bergström
X-ORIGINAL-URL:https://anbe.se
X-WR-CALDESC:Händelser för Doktor Bergström
REFRESH-INTERVAL;VALUE=DURATION:PT1H
X-Robots-Tag:noindex
X-PUBLISHED-TTL:PT1H
BEGIN:VTIMEZONE
TZID:Europe/Stockholm
BEGIN:DAYLIGHT
TZOFFSETFROM:+0100
TZOFFSETTO:+0200
TZNAME:CEST
DTSTART:20240331T010000
END:DAYLIGHT
BEGIN:STANDARD
TZOFFSETFROM:+0200
TZOFFSETTO:+0100
TZNAME:CET
DTSTART:20241027T010000
END:STANDARD
BEGIN:DAYLIGHT
TZOFFSETFROM:+0100
TZOFFSETTO:+0200
TZNAME:CEST
DTSTART:20250330T010000
END:DAYLIGHT
BEGIN:STANDARD
TZOFFSETFROM:+0200
TZOFFSETTO:+0100
TZNAME:CET
DTSTART:20251026T010000
END:STANDARD
BEGIN:DAYLIGHT
TZOFFSETFROM:+0100
TZOFFSETTO:+0200
TZNAME:CEST
DTSTART:20260329T010000
END:DAYLIGHT
BEGIN:STANDARD
TZOFFSETFROM:+0200
TZOFFSETTO:+0100
TZNAME:CET
DTSTART:20261025T010000
END:STANDARD
END:VTIMEZONE
BEGIN:VEVENT
DTSTART;VALUE=DATE:20250315
DTEND;VALUE=DATE:20250321
DTSTAMP:20260420T222008
CREATED:20210613T194918Z
LAST-MODIFIED:20211031T180901Z
UID:396-1741996800-1742515199@anbe.se
SUMMARY:NANOS 51st Annual Meeting
DESCRIPTION:
URL:https://anbe.se/event/nanos-51st-annual-meeting/
LOCATION:Tucson\, AZ\, Förenta Staterna\, USA
CATEGORIES:Neuro-ophthalmology
ATTACH;FMTTYPE=image/jpeg:https://anbe.se/wp-content/uploads/NANOS-logo.jpeg
END:VEVENT
END:VCALENDAR