BEGIN:VCALENDAR
VERSION:2.0
PRODID:-//Doktor Bergström - ECPv6.15.20//NONSGML v1.0//EN
CALSCALE:GREGORIAN
METHOD:PUBLISH
X-WR-CALNAME:Doktor Bergström
X-ORIGINAL-URL:https://anbe.se
X-WR-CALDESC:Händelser för Doktor Bergström
REFRESH-INTERVAL;VALUE=DURATION:PT1H
X-Robots-Tag:noindex
X-PUBLISHED-TTL:PT1H
BEGIN:VTIMEZONE
TZID:Europe/Stockholm
BEGIN:DAYLIGHT
TZOFFSETFROM:+0100
TZOFFSETTO:+0200
TZNAME:CEST
DTSTART:20240331T010000
END:DAYLIGHT
BEGIN:STANDARD
TZOFFSETFROM:+0200
TZOFFSETTO:+0100
TZNAME:CET
DTSTART:20241027T010000
END:STANDARD
BEGIN:DAYLIGHT
TZOFFSETFROM:+0100
TZOFFSETTO:+0200
TZNAME:CEST
DTSTART:20250330T010000
END:DAYLIGHT
BEGIN:STANDARD
TZOFFSETFROM:+0200
TZOFFSETTO:+0100
TZNAME:CET
DTSTART:20251026T010000
END:STANDARD
BEGIN:DAYLIGHT
TZOFFSETFROM:+0100
TZOFFSETTO:+0200
TZNAME:CEST
DTSTART:20260329T010000
END:DAYLIGHT
BEGIN:STANDARD
TZOFFSETFROM:+0200
TZOFFSETTO:+0100
TZNAME:CET
DTSTART:20261025T010000
END:STANDARD
END:VTIMEZONE
BEGIN:VEVENT
DTSTART;VALUE=DATE:20250403
DTEND;VALUE=DATE:20250407
DTSTAMP:20260420T222106
CREATED:20240918T125339Z
LAST-MODIFIED:20240918T125339Z
UID:1059-1743638400-1743983999@anbe.se
SUMMARY:APAO (Asia-Pacific Academy of Ophthalmology) 40th Congress
DESCRIPTION:
URL:https://anbe.se/event/apao-asia-pacific-academy-of-ophthalmology-40th-congress/
LOCATION:New Delhi\, Indien
CATEGORIES:General ophthalmology,Ophthalmology
ATTACH;FMTTYPE=image/png:https://anbe.se/wp-content/uploads/APAO.png
END:VEVENT
BEGIN:VEVENT
DTSTART;VALUE=DATE:20250403
DTEND;VALUE=DATE:20250407
DTSTAMP:20260420T222106
CREATED:20250323T165028Z
LAST-MODIFIED:20250323T165028Z
UID:1153-1743638400-1743983999@anbe.se
SUMMARY:OOG (Ophthalmic Oncology Group) 59th Meeting
DESCRIPTION:
URL:https://anbe.se/event/oog-ophthalmic-oncology-group-59th-meeting/
LOCATION:Genoa\, Italy
ATTACH;FMTTYPE=image/png:https://anbe.se/wp-content/uploads/OOG.png
END:VEVENT
BEGIN:VEVENT
DTSTART;VALUE=DATE:20250404
DTEND;VALUE=DATE:20250406
DTSTAMP:20260420T222106
CREATED:20240918T133924Z
LAST-MODIFIED:20241103T191147Z
UID:1093-1743724800-1743897599@anbe.se
SUMMARY:COPHy (Controversies in Ophthalmology) Annual Congress
DESCRIPTION:
URL:https://anbe.se/event/cophy-controversies-in-ophthalmology-annual-congress/
LOCATION:Seville\, Spain
CATEGORIES:Ophthalmology
ATTACH;FMTTYPE=image/png:https://anbe.se/wp-content/uploads/COPHy.png
END:VEVENT
END:VCALENDAR