BEGIN:VCALENDAR
VERSION:2.0
PRODID:-//Doktor Bergström - ECPv6.15.20//NONSGML v1.0//EN
CALSCALE:GREGORIAN
METHOD:PUBLISH
X-WR-CALNAME:Doktor Bergström
X-ORIGINAL-URL:https://anbe.se
X-WR-CALDESC:Händelser för Doktor Bergström
REFRESH-INTERVAL;VALUE=DURATION:PT1H
X-Robots-Tag:noindex
X-PUBLISHED-TTL:PT1H
BEGIN:VTIMEZONE
TZID:Europe/Stockholm
BEGIN:DAYLIGHT
TZOFFSETFROM:+0100
TZOFFSETTO:+0200
TZNAME:CEST
DTSTART:20250330T010000
END:DAYLIGHT
BEGIN:STANDARD
TZOFFSETFROM:+0200
TZOFFSETTO:+0100
TZNAME:CET
DTSTART:20251026T010000
END:STANDARD
BEGIN:DAYLIGHT
TZOFFSETFROM:+0100
TZOFFSETTO:+0200
TZNAME:CEST
DTSTART:20260329T010000
END:DAYLIGHT
BEGIN:STANDARD
TZOFFSETFROM:+0200
TZOFFSETTO:+0100
TZNAME:CET
DTSTART:20261025T010000
END:STANDARD
BEGIN:DAYLIGHT
TZOFFSETFROM:+0100
TZOFFSETTO:+0200
TZNAME:CEST
DTSTART:20270328T010000
END:DAYLIGHT
BEGIN:STANDARD
TZOFFSETFROM:+0200
TZOFFSETTO:+0100
TZNAME:CET
DTSTART:20271031T010000
END:STANDARD
END:VTIMEZONE
BEGIN:VEVENT
DTSTART;VALUE=DATE:20260205
DTEND;VALUE=DATE:20260309
DTSTAMP:20260420T170330
CREATED:20260315T180818Z
LAST-MODIFIED:20260315T180818Z
UID:1244-1770249600-1773014399@anbe.se
SUMMARY:APAO (Asia-Pacific Academy of Ophthalmology) 41st Congress 2026
DESCRIPTION:
URL:https://anbe.se/event/apao-asia-pacific-academy-of-ophthalmology-41st-congress-2026/
LOCATION:Hong Kong\, China
CATEGORIES:Ophthalmology
ATTACH;FMTTYPE=image/png:https://anbe.se/wp-content/uploads/APAO.png
END:VEVENT
BEGIN:VEVENT
DTSTART;VALUE=DATE:20260315
DTEND;VALUE=DATE:20260316
DTSTAMP:20260420T170330
CREATED:20260315T194238Z
LAST-MODIFIED:20260315T194238Z
UID:1303-1773532800-1773619199@anbe.se
SUMMARY:ESOPRS (European Society of Ophthalmic Plastic and Reconstructive Surgery) 45th Meeting 2027
DESCRIPTION:
URL:https://anbe.se/event/esoprs-european-society-of-ophthalmic-plastic-and-reconstructive-surgery-45th-meeting-2027/
LOCATION:Copenhagen (København)\, Denmark
CATEGORIES:Oculoplastic/Reconstructive
ATTACH;FMTTYPE=image/png:https://anbe.se/wp-content/uploads/ESOPRS.png
END:VEVENT
BEGIN:VEVENT
DTSTART;VALUE=DATE:20260316
DTEND;VALUE=DATE:20260322
DTSTAMP:20260420T170330
CREATED:20260316T211022Z
LAST-MODIFIED:20260316T211022Z
UID:1335-1773619200-1774137599@anbe.se
SUMMARY:ISOO (International Society of Ocular Oncology) Rio 2026
DESCRIPTION:
URL:https://anbe.se/event/isoo-international-society-of-ocular-oncology-rio-2026/
LOCATION:Rio de Janeiro\, Brazil
CATEGORIES:Oncology
ATTACH;FMTTYPE=image/png:https://anbe.se/wp-content/uploads/ISOO.png
END:VEVENT
BEGIN:VEVENT
DTSTART;VALUE=DATE:20260318
DTEND;VALUE=DATE:20260323
DTSTAMP:20260420T170330
CREATED:20260315T173457Z
LAST-MODIFIED:20260315T173803Z
UID:1222-1773792000-1774223999@anbe.se
SUMMARY:AAPOS (American Association for Pediatric Ophthalmology and Strabismus) 51th Annual Meeting 2026
DESCRIPTION:
URL:https://anbe.se/event/aapos-american-association-for-pediatric-ophthalmology-and-strabismus-51th-annual-meeting-2026/
LOCATION:Boston\, MA\, United States
CATEGORIES:Pediatric,Strabismus
ATTACH;FMTTYPE=image/png:https://anbe.se/wp-content/uploads/AAPOS-Logo-CLR.png
END:VEVENT
BEGIN:VEVENT
DTSTART;VALUE=DATE:20260320
DTEND;VALUE=DATE:20260322
DTSTAMP:20260420T170330
CREATED:20260315T185604Z
LAST-MODIFIED:20260315T185624Z
UID:1272-1773964800-1774137599@anbe.se
SUMMARY:COPHy (Controversies in Ophthalmology) 17th Annual Congress 2026
DESCRIPTION:
URL:https://anbe.se/event/cophy-controversies-in-ophthalmology-17th-annual-congress-2026/
LOCATION:Krakow\, Poland
CATEGORIES:Ophthalmology
ATTACH;FMTTYPE=image/png:https://anbe.se/wp-content/uploads/COPHy-1.png
END:VEVENT
BEGIN:VEVENT
DTSTART;VALUE=DATE:20260326
DTEND;VALUE=DATE:20260329
DTSTAMP:20260420T170330
CREATED:20260316T210343Z
LAST-MODIFIED:20260316T210343Z
UID:1330-1774483200-1774742399@anbe.se
SUMMARY:ISGS (International Society of Glaucoma Surgery) 13th International Congress 2026
DESCRIPTION:
URL:https://anbe.se/event/isgs-international-society-of-glaucoma-surgery-13th-international-congress-2026/
LOCATION:Madrid\, Spanien
CATEGORIES:Glaucoma Surgery
ATTACH;FMTTYPE=image/jpeg:https://anbe.se/wp-content/uploads/ISGS.jpg
END:VEVENT
END:VCALENDAR