BEGIN:VCALENDAR
VERSION:2.0
PRODID:-//Doktor Bergström - ECPv6.15.20//NONSGML v1.0//EN
CALSCALE:GREGORIAN
METHOD:PUBLISH
X-WR-CALNAME:Doktor Bergström
X-ORIGINAL-URL:https://anbe.se
X-WR-CALDESC:Händelser för Doktor Bergström
REFRESH-INTERVAL;VALUE=DURATION:PT1H
X-Robots-Tag:noindex
X-PUBLISHED-TTL:PT1H
BEGIN:VTIMEZONE
TZID:Europe/Stockholm
BEGIN:DAYLIGHT
TZOFFSETFROM:+0100
TZOFFSETTO:+0200
TZNAME:CEST
DTSTART:20250330T010000
END:DAYLIGHT
BEGIN:STANDARD
TZOFFSETFROM:+0200
TZOFFSETTO:+0100
TZNAME:CET
DTSTART:20251026T010000
END:STANDARD
BEGIN:DAYLIGHT
TZOFFSETFROM:+0100
TZOFFSETTO:+0200
TZNAME:CEST
DTSTART:20260329T010000
END:DAYLIGHT
BEGIN:STANDARD
TZOFFSETFROM:+0200
TZOFFSETTO:+0100
TZNAME:CET
DTSTART:20261025T010000
END:STANDARD
BEGIN:DAYLIGHT
TZOFFSETFROM:+0100
TZOFFSETTO:+0200
TZNAME:CEST
DTSTART:20270328T010000
END:DAYLIGHT
BEGIN:STANDARD
TZOFFSETFROM:+0200
TZOFFSETTO:+0100
TZNAME:CET
DTSTART:20271031T010000
END:STANDARD
END:VTIMEZONE
BEGIN:VEVENT
DTSTART;VALUE=DATE:20260503
DTEND;VALUE=DATE:20260508
DTSTAMP:20260420T170332
CREATED:20211210T170856Z
LAST-MODIFIED:20221002T073213Z
UID:648-1777766400-1778198399@anbe.se
SUMMARY:ARVO 2026
DESCRIPTION:
URL:https://anbe.se/event/arvo-2026/
LOCATION:Colorado Convention Center\, 700 14th St\, Denver\, CO\, 80202\, United States
CATEGORIES:Ophthalmology
ATTACH;FMTTYPE=image/jpeg:https://anbe.se/wp-content/uploads/arvo.jpg
END:VEVENT
BEGIN:VEVENT
DTSTART;VALUE=DATE:20260521
DTEND;VALUE=DATE:20260523
DTSTAMP:20260420T170332
CREATED:20241103T185642Z
LAST-MODIFIED:20260315T174003Z
UID:1135-1779321600-1779494399@anbe.se
SUMMARY:SGKS (Svenska Glaukomkirurgiska Sällskapet)
DESCRIPTION:Official language: Swedish\nMöte lunch-lunch.\nPå torsdag förmiddag drylab.
URL:https://anbe.se/event/sgks-svenska-glaukomkirurgiska-sallskapet-3/
LOCATION:Göteborg\, Sverige
CATEGORIES:Glaucoma Surgery
ATTACH;FMTTYPE=image/png:https://anbe.se/wp-content/uploads/logo-SGKS-Transparent-Small.png
END:VEVENT
BEGIN:VEVENT
DTSTART;VALUE=DATE:20260521
DTEND;VALUE=DATE:20260524
DTSTAMP:20260420T170332
CREATED:20260315T174500Z
LAST-MODIFIED:20260315T174525Z
UID:1225-1779321600-1779580799@anbe.se
SUMMARY:AOS (American Ophthalmological Society) Annual Meeting 2026
DESCRIPTION:
URL:https://anbe.se/event/aos-american-ophthalmological-society-annual-meeting-2026/
LOCATION:Santa Fe\, United States
CATEGORIES:Ophthalmology
ATTACH;FMTTYPE=image/png:https://anbe.se/wp-content/uploads/AOS-logo.png
END:VEVENT
BEGIN:VEVENT
DTSTART;VALUE=DATE:20260522
DTEND;VALUE=DATE:20260525
DTSTAMP:20260420T170332
CREATED:20260315T194427Z
LAST-MODIFIED:20260315T194747Z
UID:1305-1779408000-1779667199@anbe.se
SUMMARY:EuCornea 17th Congress
DESCRIPTION:
URL:https://anbe.se/event/eucornea-17th-congress/
LOCATION:Porto\, Portugal
CATEGORIES:Cornea
ATTACH;FMTTYPE=image/png:https://anbe.se/wp-content/uploads/EuCornea.2-e1664710753397.png
END:VEVENT
BEGIN:VEVENT
DTSTART;VALUE=DATE:20260527
DTEND;VALUE=DATE:20260531
DTSTAMP:20260420T170332
CREATED:20240918T133613Z
LAST-MODIFIED:20241103T190923Z
UID:1087-1779840000-1780185599@anbe.se
SUMMARY:Club Jules Gonin XXXVth Meeting 2026
DESCRIPTION:
URL:https://anbe.se/event/club-jules-gonin-xxxvth-meeting-2026/
LOCATION:Lugano\, Switzerland
CATEGORIES:Retina
ATTACH;FMTTYPE=image/gif:https://anbe.se/wp-content/uploads/Club-Jules-Gonin-logo.gif
END:VEVENT
BEGIN:VEVENT
DTSTART;VALUE=DATE:20260530
DTEND;VALUE=DATE:20260603
DTSTAMP:20260420T170332
CREATED:20240918T135244Z
LAST-MODIFIED:20241103T190856Z
UID:1106-1780099200-1780444799@anbe.se
SUMMARY:EGS (European Glaucoma Society) 17th Congress 2026
DESCRIPTION:
URL:https://anbe.se/event/egs-european-glaucoma-society-17th-congress-2026/
LOCATION:Brüssel\, Germany
CATEGORIES:Glaucoma
ATTACH;FMTTYPE=image/png:https://anbe.se/wp-content/uploads/EGS.png
END:VEVENT
END:VCALENDAR