BEGIN:VCALENDAR
VERSION:2.0
PRODID:-//Doktor Bergström - ECPv6.15.20//NONSGML v1.0//EN
CALSCALE:GREGORIAN
METHOD:PUBLISH
X-WR-CALNAME:Doktor Bergström
X-ORIGINAL-URL:https://anbe.se
X-WR-CALDESC:Händelser för Doktor Bergström
REFRESH-INTERVAL;VALUE=DURATION:PT1H
X-Robots-Tag:noindex
X-PUBLISHED-TTL:PT1H
BEGIN:VTIMEZONE
TZID:Europe/Stockholm
BEGIN:DAYLIGHT
TZOFFSETFROM:+0100
TZOFFSETTO:+0200
TZNAME:CEST
DTSTART:20250330T010000
END:DAYLIGHT
BEGIN:STANDARD
TZOFFSETFROM:+0200
TZOFFSETTO:+0100
TZNAME:CET
DTSTART:20251026T010000
END:STANDARD
BEGIN:DAYLIGHT
TZOFFSETFROM:+0100
TZOFFSETTO:+0200
TZNAME:CEST
DTSTART:20260329T010000
END:DAYLIGHT
BEGIN:STANDARD
TZOFFSETFROM:+0200
TZOFFSETTO:+0100
TZNAME:CET
DTSTART:20261025T010000
END:STANDARD
BEGIN:DAYLIGHT
TZOFFSETFROM:+0100
TZOFFSETTO:+0200
TZNAME:CEST
DTSTART:20270328T010000
END:DAYLIGHT
BEGIN:STANDARD
TZOFFSETFROM:+0200
TZOFFSETTO:+0100
TZNAME:CET
DTSTART:20271031T010000
END:STANDARD
BEGIN:DAYLIGHT
TZOFFSETFROM:+0100
TZOFFSETTO:+0200
TZNAME:CEST
DTSTART:20280326T010000
END:DAYLIGHT
BEGIN:STANDARD
TZOFFSETFROM:+0200
TZOFFSETTO:+0100
TZNAME:CET
DTSTART:20281029T010000
END:STANDARD
BEGIN:DAYLIGHT
TZOFFSETFROM:+0100
TZOFFSETTO:+0200
TZNAME:CEST
DTSTART:20290325T010000
END:DAYLIGHT
BEGIN:STANDARD
TZOFFSETFROM:+0200
TZOFFSETTO:+0100
TZNAME:CET
DTSTART:20291028T010000
END:STANDARD
BEGIN:DAYLIGHT
TZOFFSETFROM:+0100
TZOFFSETTO:+0200
TZNAME:CEST
DTSTART:20300331T010000
END:DAYLIGHT
BEGIN:STANDARD
TZOFFSETFROM:+0200
TZOFFSETTO:+0100
TZNAME:CET
DTSTART:20301027T010000
END:STANDARD
BEGIN:DAYLIGHT
TZOFFSETFROM:+0100
TZOFFSETTO:+0200
TZNAME:CEST
DTSTART:20310330T010000
END:DAYLIGHT
BEGIN:STANDARD
TZOFFSETFROM:+0200
TZOFFSETTO:+0100
TZNAME:CET
DTSTART:20311026T010000
END:STANDARD
END:VTIMEZONE
BEGIN:VEVENT
DTSTART;VALUE=DATE:20260910
DTEND;VALUE=DATE:20260913
DTSTAMP:20260420T125209
CREATED:20260315T193923Z
LAST-MODIFIED:20260315T193950Z
UID:1300-1788998400-1789257599@anbe.se
SUMMARY:ESOPRS (European Society of Ophthalmic Plastic and Reconstructive Surgery) 44th Meeting 2026
DESCRIPTION:
URL:https://anbe.se/event/esoprs-european-society-of-ophthalmic-plastic-and-reconstructive-surgery-44th-meeting-2026/
LOCATION:Cascais\, Portugal
CATEGORIES:Oculoplastic/Reconstructive
ATTACH;FMTTYPE=image/png:https://anbe.se/wp-content/uploads/ESOPRS.png
END:VEVENT
BEGIN:VEVENT
DTSTART;VALUE=DATE:20260911
DTEND;VALUE=DATE:20260916
DTSTAMP:20260420T125209
CREATED:20260315T192805Z
LAST-MODIFIED:20260315T192805Z
UID:1291-1789084800-1789516799@anbe.se
SUMMARY:ESCRS (European Society of Cataract and Refractive Surgeons) 44th Congress 2026
DESCRIPTION:
URL:https://anbe.se/event/escrs-european-society-of-cataract-and-refractive-surgeons-44th-congress-2026/
LOCATION:London\, United Kingdom
CATEGORIES:Cataract,Refractive
ATTACH;FMTTYPE=image/png:https://anbe.se/wp-content/uploads/ESCRS.png
END:VEVENT
BEGIN:VEVENT
DTSTART;VALUE=DATE:20260924
DTEND;VALUE=DATE:20260927
DTSTAMP:20260420T125209
CREATED:20260315T192418Z
LAST-MODIFIED:20260315T192418Z
UID:1288-1790208000-1790467199@anbe.se
SUMMARY:EPOS (European Paediatric Ophthalmological Society) 51th Annual Meeting 2026
DESCRIPTION:
URL:https://anbe.se/event/epos-european-paediatric-ophthalmological-society-51th-annual-meeting-2026/
LOCATION:Bucharest\, Romania
CATEGORIES:Pediatric
ATTACH;FMTTYPE=image/png:https://anbe.se/wp-content/uploads/EPOS.png
END:VEVENT
BEGIN:VEVENT
DTSTART;VALUE=DATE:20260930
DTEND;VALUE=DATE:20261003
DTSTAMP:20260420T125209
CREATED:20260315T185015Z
LAST-MODIFIED:20260315T185015Z
UID:1269-1790726400-1790985599@anbe.se
SUMMARY:BIPOSA (British and Irish Paediatric Ophthalmology and Strabismus Association) 2026
DESCRIPTION:
URL:https://anbe.se/event/biposa-british-and-irish-paediatric-ophthalmology-and-strabismus-association-2026/
LOCATION:Liverpool\, United Kingdom
CATEGORIES:Pediatric,Strabismus
ATTACH;FMTTYPE=image/png:https://anbe.se/wp-content/uploads/BIPOSA-e1664704798471.png
END:VEVENT
BEGIN:VEVENT
DTSTART;VALUE=DATE:20261001
DTEND;VALUE=DATE:20261005
DTSTAMP:20260420T125209
CREATED:20260315T195320Z
LAST-MODIFIED:20260315T195339Z
UID:1310-1790812800-1791158399@anbe.se
SUMMARY:Euretina 26th Congress
DESCRIPTION:
URL:https://anbe.se/event/euretina/
LOCATION:Vienna\, Austria
CATEGORIES:Retina
ATTACH;FMTTYPE=image/png:https://anbe.se/wp-content/uploads/EURETINA-e1664711602759.png
END:VEVENT
BEGIN:VEVENT
DTSTART;VALUE=DATE:20261002
DTEND;VALUE=DATE:20261005
DTSTAMP:20260420T125209
CREATED:20260316T205059Z
LAST-MODIFIED:20260316T205144Z
UID:1321-1790899200-1791158399@anbe.se
SUMMARY:GSI (Glaucoma Society of India) 35th Annual Conference 2026
DESCRIPTION:
URL:https://anbe.se/event/gsi-glaucoma-society-of-india-35th-annual-conference-2026/
LOCATION:Gandhi Maidan\, Patna\, India
CATEGORIES:Glaucoma
ATTACH;FMTTYPE=image/png:https://anbe.se/wp-content/uploads/GSI.png
END:VEVENT
BEGIN:VEVENT
DTSTART;VALUE=DATE:20261008
DTEND;VALUE=DATE:20261010
DTSTAMP:20260420T125209
CREATED:20260315T184315Z
LAST-MODIFIED:20260315T184315Z
UID:1264-1791417600-1791590399@anbe.se
SUMMARY:ASOPRS (American Society of Ophthalmic Plastic and Reconstructive Surgery) 57th Annual Fall Scientific Symposium 2026
DESCRIPTION:
URL:https://anbe.se/event/asoprs-american-society-of-ophthalmic-plastic-and-reconstructive-surgery-57th-annual-fall-scientific-symposium-2026/
LOCATION:New Orleans\, LA\, Förenta Staterna\, USA
CATEGORIES:Oculoplastic/Reconstructive
ATTACH;FMTTYPE=image/png:https://anbe.se/wp-content/uploads/ASOPRS.png
END:VEVENT
BEGIN:VEVENT
DTSTART;VALUE=DATE:20261009
DTEND;VALUE=DATE:20261010
DTSTAMP:20260420T125209
CREATED:20260315T190158Z
LAST-MODIFIED:20260315T190232Z
UID:1276-1791504000-1791590399@anbe.se
SUMMARY:Cornea Society Fall Meeting 2026
DESCRIPTION:
URL:https://anbe.se/event/cornea-society-fall-meeting-2026/
LOCATION:New Orleans\, LA\, Förenta Staterna\, USA
CATEGORIES:Cornea
ATTACH;FMTTYPE=image/png:https://anbe.se/wp-content/uploads/Cornea-Society.png
END:VEVENT
BEGIN:VEVENT
DTSTART;VALUE=DATE:20261009
DTEND;VALUE=DATE:20261013
DTSTAMP:20260420T125209
CREATED:20211204T123939Z
LAST-MODIFIED:20241103T190845Z
UID:603-1791504000-1791849599@anbe.se
SUMMARY:AAO (American Academy of Ophthalmology) 2026
DESCRIPTION:
URL:https://anbe.se/event/aao-american-academy-of-ophthalmology-2026/
LOCATION:New Orleans Ernest N. Morial Convention Center\, New Orleans\, LA\, Förenta Staterna\, USA
CATEGORIES:Ophthalmology
ATTACH;FMTTYPE=image/png:https://anbe.se/wp-content/uploads/AAO-logo.png
END:VEVENT
BEGIN:VEVENT
DTSTART;VALUE=DATE:20261015
DTEND;VALUE=DATE:20261018
DTSTAMP:20260420T125209
CREATED:20260316T204048Z
LAST-MODIFIED:20260316T204048Z
UID:1319-1792022400-1792281599@anbe.se
SUMMARY:EVER (European Association for Vision and Eye Research) 29th Congress 2026
DESCRIPTION:
URL:https://anbe.se/event/ever-european-association-for-vision-and-eye-research-29th-congress-2026/
LOCATION:Florence\, Italy
CATEGORIES:Ophthalmology
ATTACH;FMTTYPE=image/jpeg:https://anbe.se/wp-content/uploads/EVER.jpg
END:VEVENT
BEGIN:VEVENT
DTSTART;VALUE=DATE:20261106
DTEND;VALUE=DATE:20261109
DTSTAMP:20260420T125209
CREATED:20260316T203551Z
LAST-MODIFIED:20260316T211237Z
UID:1314-1793923200-1794182399@anbe.se
SUMMARY:EVRS (European VitreoRetinal Society) 23rd Meeting 2026
DESCRIPTION:
URL:https://anbe.se/event/evrs-european-vitreoretinal-society-23rd-meeting-2026/
LOCATION:Aten\, Grekland
CATEGORIES:Retina,Retinal Surgery
ATTACH;FMTTYPE=image/png:https://anbe.se/wp-content/uploads/EVRS.png
END:VEVENT
BEGIN:VEVENT
DTSTART;VALUE=DATE:20261211
DTEND;VALUE=DATE:20261214
DTSTAMP:20260420T125209
CREATED:20260315T182823Z
LAST-MODIFIED:20260315T182823Z
UID:1258-1796947200-1797206399@anbe.se
SUMMARY:ACS (Asia Cornea Society) 10th Biennial Scientific Meeting 2026
DESCRIPTION:
URL:https://anbe.se/event/acs-asia-cornea-society-10th-biennial-scientific-meeting-2026/
LOCATION:Hong Kong\, China
CATEGORIES:Cornea
ATTACH;FMTTYPE=image/png:https://anbe.se/wp-content/uploads/ACS.png
END:VEVENT
BEGIN:VEVENT
DTSTART;VALUE=DATE:20270304
DTEND;VALUE=DATE:20270308
DTSTAMP:20260420T125209
CREATED:20260315T175325Z
LAST-MODIFIED:20260315T175325Z
UID:1234-1804118400-1804463999@anbe.se
SUMMARY:AGS (American Glaucoma Society) 2027
DESCRIPTION:
URL:https://anbe.se/event/ags-american-glaucoma-society-2027/
LOCATION:Tucson\, AZ\, Förenta Staterna\, USA
CATEGORIES:Glaucoma
ATTACH;FMTTYPE=image/png:https://anbe.se/wp-content/uploads/AGS-logo.png
END:VEVENT
BEGIN:VEVENT
DTSTART;VALUE=DATE:20270318
DTEND;VALUE=DATE:20270322
DTSTAMP:20260420T125209
CREATED:20260315T180432Z
LAST-MODIFIED:20260315T180432Z
UID:1241-1805328000-1805673599@anbe.se
SUMMARY:APAO (Asia-Pacific Academy of Ophthalmology) 42nd Congress 2027
DESCRIPTION:
URL:https://anbe.se/event/apao-asia-pacific-academy-of-ophthalmology-42nd-congress-2027/
LOCATION:Singapore\, Singapore
CATEGORIES:Ophthalmology
ATTACH;FMTTYPE=image/png:https://anbe.se/wp-content/uploads/APAO.png
END:VEVENT
BEGIN:VEVENT
DTSTART;VALUE=DATE:20270502
DTEND;VALUE=DATE:20270507
DTSTAMP:20260420T125209
CREATED:20211210T171052Z
LAST-MODIFIED:20211210T171052Z
UID:650-1809216000-1809647999@anbe.se
SUMMARY:ARVO 2027
DESCRIPTION:
URL:https://anbe.se/event/arvo-2027/
LOCATION:San Diego\, CA\, United States
CATEGORIES:Ophthalmology
ATTACH;FMTTYPE=image/jpeg:https://anbe.se/wp-content/uploads/arvo.jpg
END:VEVENT
BEGIN:VEVENT
DTSTART;VALUE=DATE:20270513
DTEND;VALUE=DATE:20270515
DTSTAMP:20260420T125209
CREATED:20250525T161805Z
LAST-MODIFIED:20260315T174041Z
UID:1177-1810166400-1810339199@anbe.se
SUMMARY:SGKS (Svenska glaukomkirurgiska sällskapet)
DESCRIPTION:
URL:https://anbe.se/event/sgks-svenska-glaukomkirurgiska-sallskapet-4/
LOCATION:Radisson Blu Scandinavia\, Göteborg\, Södra Hamngatan 59\, Göteborg\, Sweden
CATEGORIES:Glaucoma Surgery
ATTACH;FMTTYPE=image/png:https://anbe.se/wp-content/uploads/logo-SGKS-Transparent-Small.png
END:VEVENT
BEGIN:VEVENT
DTSTART;VALUE=DATE:20270520
DTEND;VALUE=DATE:20270523
DTSTAMP:20260420T125209
CREATED:20260315T174759Z
LAST-MODIFIED:20260315T174759Z
UID:1228-1810771200-1811030399@anbe.se
SUMMARY:AOS (American Ophthalmological Society) Annual Meeting 2027
DESCRIPTION:
URL:https://anbe.se/event/aos-american-ophthalmological-society-annual-meeting-2027/
LOCATION:Newport\, United States
CATEGORIES:Ophthalmology
ATTACH;FMTTYPE=image/png:https://anbe.se/wp-content/uploads/AOS-logo.png
END:VEVENT
BEGIN:VEVENT
DTSTART;VALUE=DATE:20270914
DTEND;VALUE=DATE:20270917
DTSTAMP:20260420T125209
CREATED:20260316T210734Z
LAST-MODIFIED:20260316T210734Z
UID:1332-1820880000-1821139199@anbe.se
SUMMARY:ISLRR (International Society for Low Vision Research and Rehabilitation) Vision 2027 - 16th International Conference on Low Vision Research and Rehabilitation
DESCRIPTION:
URL:https://anbe.se/event/islrr-international-society-for-low-vision-research-and-rehabilitation-vision-2027-16th-international-conference-on-low-vision-research-and-rehabilitation/
LOCATION:Melbourne\, Australia
CATEGORIES:Low vision/Rehab
ATTACH;FMTTYPE=image/png:https://anbe.se/wp-content/uploads/ISLRR.png
END:VEVENT
BEGIN:VEVENT
DTSTART;VALUE=DATE:20271015
DTEND;VALUE=DATE:20271020
DTSTAMP:20260420T125209
CREATED:20230323T104645Z
LAST-MODIFIED:20260315T193028Z
UID:1016-1823558400-1823990399@anbe.se
SUMMARY:ESCRS (European Society of Cataract and Refractive Surgeons) 45th Congress 2027
DESCRIPTION:
URL:https://anbe.se/event/escrs-european-society-of-cataract-and-refractive-surgeons-45th-congress/
CATEGORIES:Cataract,Refractive
ATTACH;FMTTYPE=image/png:https://anbe.se/wp-content/uploads/ESCRS.png
END:VEVENT
BEGIN:VEVENT
DTSTART;VALUE=DATE:20271112
DTEND;VALUE=DATE:20271116
DTSTAMP:20260420T125209
CREATED:20240918T122432Z
LAST-MODIFIED:20240918T122432Z
UID:1046-1825977600-1826323199@anbe.se
SUMMARY:AAO (American Academy of Ophthalmology) 2027
DESCRIPTION:
URL:https://anbe.se/event/aao-american-academy-of-ophthalmology-2027/
LOCATION:Las Vegas\, NV\, Förenta Staterna\, USA
CATEGORIES:General ophthalmology,Ophthalmology
ATTACH;FMTTYPE=image/png:https://anbe.se/wp-content/uploads/AAO-logo.png
END:VEVENT
BEGIN:VEVENT
DTSTART;VALUE=DATE:20280224
DTEND;VALUE=DATE:20280228
DTSTAMP:20260420T125209
CREATED:20260315T175441Z
LAST-MODIFIED:20260315T175441Z
UID:1236-1834963200-1835308799@anbe.se
SUMMARY:AGS (American Glaucoma Society) 2028
DESCRIPTION:
URL:https://anbe.se/event/ags-american-glaucoma-society-2028/
LOCATION:Nashville\, TN\, Förenta Staterna\, USA
CATEGORIES:Glaucoma
ATTACH;FMTTYPE=image/png:https://anbe.se/wp-content/uploads/AGS-logo.png
END:VEVENT
BEGIN:VEVENT
DTSTART;VALUE=DATE:20280421
DTEND;VALUE=DATE:20280425
DTSTAMP:20260420T125209
CREATED:20260315T182428Z
LAST-MODIFIED:20260315T182433Z
UID:1256-1839888000-1840233599@anbe.se
SUMMARY:ASCRS (American Society of Cataract and Refractive Surgery) 2028
DESCRIPTION:
URL:https://anbe.se/event/ascrs-american-society-of-cataract-and-refractive-surgery-2028/
LOCATION:Boston\, MA\, United States
CATEGORIES:Cataract,Refractive
ATTACH;FMTTYPE=image/jpeg:https://anbe.se/wp-content/uploads/ASCRS.jpg
END:VEVENT
BEGIN:VEVENT
DTSTART;VALUE=DATE:20280430
DTEND;VALUE=DATE:20280505
DTSTAMP:20260420T125209
CREATED:20240918T125849Z
LAST-MODIFIED:20241103T190824Z
UID:1061-1840665600-1841097599@anbe.se
SUMMARY:ARVO 2028
DESCRIPTION:
URL:https://anbe.se/event/arvo-2028/
LOCATION:Toronto\, Ontario\, Canada
CATEGORIES:Ophthalmology
ATTACH;FMTTYPE=image/jpeg:https://anbe.se/wp-content/uploads/arvo.jpg
END:VEVENT
BEGIN:VEVENT
DTSTART;VALUE=DATE:20281006
DTEND;VALUE=DATE:20281011
DTSTAMP:20260420T125209
CREATED:20230323T104856Z
LAST-MODIFIED:20260315T193132Z
UID:1018-1854403200-1854835199@anbe.se
SUMMARY:ESCRS (European Society of Cataract and Refractive Surgeons) 46th Congress 2028
DESCRIPTION:
URL:https://anbe.se/event/escrs-european-society-of-cataract-and-refractive-surgeons-46th-congress/
CATEGORIES:Cataract,Refractive
ATTACH;FMTTYPE=image/png:https://anbe.se/wp-content/uploads/ESCRS.png
END:VEVENT
BEGIN:VEVENT
DTSTART;VALUE=DATE:20281014
DTEND;VALUE=DATE:20281017
DTSTAMP:20260420T125209
CREATED:20260315T173000Z
LAST-MODIFIED:20260315T173000Z
UID:1218-1855094400-1855353599@anbe.se
SUMMARY:AAO (American Academy of Ophthalmology) 2028
DESCRIPTION:
URL:https://anbe.se/event/aao-american-academy-of-ophthalmology-2028/
LOCATION:Chicago\, IL\, Förenta Staterna\, USA
CATEGORIES:Ophthalmology
ATTACH;FMTTYPE=image/png:https://anbe.se/wp-content/uploads/AAO-logo.png
END:VEVENT
BEGIN:VEVENT
DTSTART;VALUE=DATE:20290506
DTEND;VALUE=DATE:20290511
DTSTAMP:20260420T125209
CREATED:20240918T125949Z
LAST-MODIFIED:20241103T190817Z
UID:1064-1872720000-1873151999@anbe.se
SUMMARY:ARVO 2029
DESCRIPTION:
URL:https://anbe.se/event/arvo-2029/
LOCATION:Seattle\, WA\, United States
CATEGORIES:Ophthalmology
ATTACH;FMTTYPE=image/jpeg:https://anbe.se/wp-content/uploads/arvo.jpg
END:VEVENT
BEGIN:VEVENT
DTSTART;VALUE=DATE:20290921
DTEND;VALUE=DATE:20290926
DTSTAMP:20260420T125209
CREATED:20260315T193409Z
LAST-MODIFIED:20260315T193422Z
UID:1296-1884643200-1885075199@anbe.se
SUMMARY:ESCRS (European Society of Cataract and Refractive Surgeons) 47th Congress 2029
DESCRIPTION:
URL:https://anbe.se/event/escrs-european-society-of-cataract-and-refractive-surgeons-47th-congress-2029/
CATEGORIES:Cataract,Refractive
ATTACH;FMTTYPE=image/png:https://anbe.se/wp-content/uploads/ESCRS.png
END:VEVENT
BEGIN:VEVENT
DTSTART;VALUE=DATE:20291020
DTEND;VALUE=DATE:20291023
DTSTAMP:20260420T125209
CREATED:20260315T173149Z
LAST-MODIFIED:20260315T173149Z
UID:1220-1887148800-1887407999@anbe.se
SUMMARY:AAO (American Academy of Ophthalmology) 2029
DESCRIPTION:
URL:https://anbe.se/event/aao-american-academy-of-ophthalmology-2029/
LOCATION:Orlando\, FL\, United States
CATEGORIES:Ophthalmology
ATTACH;FMTTYPE=image/png:https://anbe.se/wp-content/uploads/AAO-logo.png
END:VEVENT
BEGIN:VEVENT
DTSTART;VALUE=DATE:20300428
DTEND;VALUE=DATE:20300503
DTSTAMP:20260420T125209
CREATED:20260315T181919Z
LAST-MODIFIED:20260315T181919Z
UID:1251-1903564800-1903996799@anbe.se
SUMMARY:ARVO 2030
DESCRIPTION:
URL:https://anbe.se/event/arvo-2030/
LOCATION:Montreal\, Canada
CATEGORIES:Ophthalmology
ATTACH;FMTTYPE=image/jpeg:https://anbe.se/wp-content/uploads/arvo.jpg
END:VEVENT
BEGIN:VEVENT
DTSTART;VALUE=DATE:20300913
DTEND;VALUE=DATE:20300917
DTSTAMP:20260420T125209
CREATED:20260315T193534Z
LAST-MODIFIED:20260315T193534Z
UID:1298-1915488000-1915833599@anbe.se
SUMMARY:ESCRS (European Society of Cataract and Refractive Surgeons) 48th Congress 2030
DESCRIPTION:
URL:https://anbe.se/event/escrs-european-society-of-cataract-and-refractive-surgeons-48th-congress-2030/
CATEGORIES:Cataract,Refractive
ATTACH;FMTTYPE=image/png:https://anbe.se/wp-content/uploads/ESCRS.png
END:VEVENT
END:VCALENDAR