BEGIN:VCALENDAR
VERSION:2.0
PRODID:-//Doktor Bergström - ECPv6.15.20//NONSGML v1.0//EN
CALSCALE:GREGORIAN
METHOD:PUBLISH
X-WR-CALNAME:Doktor Bergström
X-ORIGINAL-URL:https://anbe.se
X-WR-CALDESC:Händelser för Doktor Bergström
REFRESH-INTERVAL;VALUE=DURATION:PT1H
X-Robots-Tag:noindex
X-PUBLISHED-TTL:PT1H
BEGIN:VTIMEZONE
TZID:Europe/Stockholm
BEGIN:DAYLIGHT
TZOFFSETFROM:+0100
TZOFFSETTO:+0200
TZNAME:CEST
DTSTART:20270328T010000
END:DAYLIGHT
BEGIN:STANDARD
TZOFFSETFROM:+0200
TZOFFSETTO:+0100
TZNAME:CET
DTSTART:20271031T010000
END:STANDARD
BEGIN:DAYLIGHT
TZOFFSETFROM:+0100
TZOFFSETTO:+0200
TZNAME:CEST
DTSTART:20280326T010000
END:DAYLIGHT
BEGIN:STANDARD
TZOFFSETFROM:+0200
TZOFFSETTO:+0100
TZNAME:CET
DTSTART:20281029T010000
END:STANDARD
BEGIN:DAYLIGHT
TZOFFSETFROM:+0100
TZOFFSETTO:+0200
TZNAME:CEST
DTSTART:20290325T010000
END:DAYLIGHT
BEGIN:STANDARD
TZOFFSETFROM:+0200
TZOFFSETTO:+0100
TZNAME:CET
DTSTART:20291028T010000
END:STANDARD
BEGIN:DAYLIGHT
TZOFFSETFROM:+0100
TZOFFSETTO:+0200
TZNAME:CEST
DTSTART:20300331T010000
END:DAYLIGHT
BEGIN:STANDARD
TZOFFSETFROM:+0200
TZOFFSETTO:+0100
TZNAME:CET
DTSTART:20301027T010000
END:STANDARD
BEGIN:DAYLIGHT
TZOFFSETFROM:+0100
TZOFFSETTO:+0200
TZNAME:CEST
DTSTART:20310330T010000
END:DAYLIGHT
BEGIN:STANDARD
TZOFFSETFROM:+0200
TZOFFSETTO:+0100
TZNAME:CET
DTSTART:20311026T010000
END:STANDARD
END:VTIMEZONE
BEGIN:VEVENT
DTSTART;VALUE=DATE:20281014
DTEND;VALUE=DATE:20281017
DTSTAMP:20260420T215314
CREATED:20260315T173000Z
LAST-MODIFIED:20260315T173000Z
UID:1218-1855094400-1855353599@anbe.se
SUMMARY:AAO (American Academy of Ophthalmology) 2028
DESCRIPTION:
URL:https://anbe.se/event/aao-american-academy-of-ophthalmology-2028/
LOCATION:Chicago\, IL\, Förenta Staterna\, USA
CATEGORIES:Ophthalmology
ATTACH;FMTTYPE=image/png:https://anbe.se/wp-content/uploads/AAO-logo.png
END:VEVENT
BEGIN:VEVENT
DTSTART;VALUE=DATE:20290506
DTEND;VALUE=DATE:20290511
DTSTAMP:20260420T215314
CREATED:20240918T125949Z
LAST-MODIFIED:20241103T190817Z
UID:1064-1872720000-1873151999@anbe.se
SUMMARY:ARVO 2029
DESCRIPTION:
URL:https://anbe.se/event/arvo-2029/
LOCATION:Seattle\, WA\, United States
CATEGORIES:Ophthalmology
ATTACH;FMTTYPE=image/jpeg:https://anbe.se/wp-content/uploads/arvo.jpg
END:VEVENT
BEGIN:VEVENT
DTSTART;VALUE=DATE:20290921
DTEND;VALUE=DATE:20290926
DTSTAMP:20260420T215314
CREATED:20260315T193409Z
LAST-MODIFIED:20260315T193422Z
UID:1296-1884643200-1885075199@anbe.se
SUMMARY:ESCRS (European Society of Cataract and Refractive Surgeons) 47th Congress 2029
DESCRIPTION:
URL:https://anbe.se/event/escrs-european-society-of-cataract-and-refractive-surgeons-47th-congress-2029/
LOCATION:MA
CATEGORIES:Cataract,Refractive
ATTACH;FMTTYPE=image/png:https://anbe.se/wp-content/uploads/ESCRS.png
END:VEVENT
BEGIN:VEVENT
DTSTART;VALUE=DATE:20291020
DTEND;VALUE=DATE:20291023
DTSTAMP:20260420T215314
CREATED:20260315T173149Z
LAST-MODIFIED:20260315T173149Z
UID:1220-1887148800-1887407999@anbe.se
SUMMARY:AAO (American Academy of Ophthalmology) 2029
DESCRIPTION:
URL:https://anbe.se/event/aao-american-academy-of-ophthalmology-2029/
LOCATION:Orlando\, FL\, United States
CATEGORIES:Ophthalmology
ATTACH;FMTTYPE=image/png:https://anbe.se/wp-content/uploads/AAO-logo.png
END:VEVENT
BEGIN:VEVENT
DTSTART;VALUE=DATE:20300428
DTEND;VALUE=DATE:20300503
DTSTAMP:20260420T215314
CREATED:20260315T181919Z
LAST-MODIFIED:20260315T181919Z
UID:1251-1903564800-1903996799@anbe.se
SUMMARY:ARVO 2030
DESCRIPTION:
URL:https://anbe.se/event/arvo-2030/
LOCATION:Montreal\, Canada
CATEGORIES:Ophthalmology
ATTACH;FMTTYPE=image/jpeg:https://anbe.se/wp-content/uploads/arvo.jpg
END:VEVENT
BEGIN:VEVENT
DTSTART;VALUE=DATE:20300913
DTEND;VALUE=DATE:20300917
DTSTAMP:20260420T215314
CREATED:20260315T193534Z
LAST-MODIFIED:20260315T193534Z
UID:1298-1915488000-1915833599@anbe.se
SUMMARY:ESCRS (European Society of Cataract and Refractive Surgeons) 48th Congress 2030
DESCRIPTION:
URL:https://anbe.se/event/escrs-european-society-of-cataract-and-refractive-surgeons-48th-congress-2030/
LOCATION:MA
CATEGORIES:Cataract,Refractive
ATTACH;FMTTYPE=image/png:https://anbe.se/wp-content/uploads/ESCRS.png
END:VEVENT
END:VCALENDAR