BEGIN:VCALENDAR
VERSION:2.0
PRODID:-//Doktor Bergström - ECPv6.15.20//NONSGML v1.0//EN
CALSCALE:GREGORIAN
METHOD:PUBLISH
X-WR-CALNAME:Doktor Bergström
X-ORIGINAL-URL:https://anbe.se
X-WR-CALDESC:Händelser för Doktor Bergström
REFRESH-INTERVAL;VALUE=DURATION:PT1H
X-Robots-Tag:noindex
X-PUBLISHED-TTL:PT1H
BEGIN:VTIMEZONE
TZID:Europe/Stockholm
BEGIN:DAYLIGHT
TZOFFSETFROM:+0100
TZOFFSETTO:+0200
TZNAME:CEST
DTSTART:20200329T010000
END:DAYLIGHT
BEGIN:STANDARD
TZOFFSETFROM:+0200
TZOFFSETTO:+0100
TZNAME:CET
DTSTART:20201025T010000
END:STANDARD
BEGIN:DAYLIGHT
TZOFFSETFROM:+0100
TZOFFSETTO:+0200
TZNAME:CEST
DTSTART:20210328T010000
END:DAYLIGHT
BEGIN:STANDARD
TZOFFSETFROM:+0200
TZOFFSETTO:+0100
TZNAME:CET
DTSTART:20211031T010000
END:STANDARD
BEGIN:DAYLIGHT
TZOFFSETFROM:+0100
TZOFFSETTO:+0200
TZNAME:CEST
DTSTART:20220327T010000
END:DAYLIGHT
BEGIN:STANDARD
TZOFFSETFROM:+0200
TZOFFSETTO:+0100
TZNAME:CET
DTSTART:20221030T010000
END:STANDARD
BEGIN:DAYLIGHT
TZOFFSETFROM:+0100
TZOFFSETTO:+0200
TZNAME:CEST
DTSTART:20230326T010000
END:DAYLIGHT
BEGIN:STANDARD
TZOFFSETFROM:+0200
TZOFFSETTO:+0100
TZNAME:CET
DTSTART:20231029T010000
END:STANDARD
END:VTIMEZONE
BEGIN:VEVENT
DTSTART;VALUE=DATE:20220824
DTEND;VALUE=DATE:20220827
DTSTAMP:20260421T210159
CREATED:20211122T081114Z
LAST-MODIFIED:20220513T133134Z
UID:599-1661299200-1661558399@anbe.se
SUMMARY:SÖF\, Sveriges ögonläkarförenings årsmöte 2022
DESCRIPTION:Official language: Swedish.
URL:https://anbe.se/event/sveriges-ogonlakarforenings-arsmote/
LOCATION:Falun\, Sverige
ATTACH;FMTTYPE=image/png:https://anbe.se/wp-content/uploads/SOF-logo.png
END:VEVENT
BEGIN:VEVENT
DTSTART;VALUE=DATE:20220824
DTEND;VALUE=DATE:20220827
DTSTAMP:20260421T210159
CREATED:20210612T203220Z
LAST-MODIFIED:20210706T143422Z
UID:335-1661299200-1661558399@anbe.se
SUMMARY:Swiss Ophthalmological Society Annual Congress 2022
DESCRIPTION:
URL:https://anbe.se/event/swiss-ophthalmological-society-annual-congress-2022/
LOCATION:Basel\, Schweiz
CATEGORIES:Ophthalmology
ATTACH;FMTTYPE=image/jpeg:https://anbe.se/wp-content/uploads/Schweizerische-OG.jpg
END:VEVENT
BEGIN:VEVENT
DTSTART;VALUE=DATE:20220713
DTEND;VALUE=DATE:20220718
DTSTAMP:20260421T210159
CREATED:20210606T143530Z
LAST-MODIFIED:20210714T120114Z
UID:177-1657670400-1658102399@anbe.se
SUMMARY:ASRS 40th Annual Meeting
DESCRIPTION:
URL:https://anbe.se/event/asrs-40th-annual-meeting/
LOCATION:New York City\, NY
CATEGORIES:Retina
ATTACH;FMTTYPE=image/png:https://anbe.se/wp-content/uploads/ASRS.png
END:VEVENT
BEGIN:VEVENT
DTSTART;VALUE=DATE:20220625
DTEND;VALUE=DATE:20220627
DTSTAMP:20260421T210159
CREATED:20220513T132546Z
LAST-MODIFIED:20221001T094659Z
UID:742-1656115200-1656287999@anbe.se
SUMMARY:EuCornea 13th Congress
DESCRIPTION:
URL:https://anbe.se/event/eucornea/
LOCATION:Aten\, Grekland
ATTACH;FMTTYPE=image/png:https://anbe.se/wp-content/uploads/EuCornea.png
END:VEVENT
BEGIN:VEVENT
DTSTART;VALUE=DATE:20220623
DTEND;VALUE=DATE:20220626
DTSTAMP:20260421T210159
CREATED:20211204T133159Z
LAST-MODIFIED:20221001T095245Z
UID:612-1655942400-1656201599@anbe.se
SUMMARY:DOC (Deutschen Ophthalmochirurgen) 34. Internationaler Kongress
DESCRIPTION:
URL:https://anbe.se/event/34-internationaler-kongress-der-deutschen-ophthalmochirurgen-doc/
CATEGORIES:Ophthalmology,Surgery
ATTACH;FMTTYPE=image/png:https://anbe.se/wp-content/uploads/DOC.png
END:VEVENT
BEGIN:VEVENT
DTSTART;VALUE=DATE:20220620
DTEND;VALUE=DATE:20220624
DTSTAMP:20260421T210159
CREATED:20210612T155359Z
LAST-MODIFIED:20221001T094741Z
UID:287-1655683200-1656028799@anbe.se
SUMMARY:EUNOS (European Neuro-Ophthalmology Society) 15th Meeting
DESCRIPTION:
URL:https://anbe.se/event/15th-meeting-of-eunos/
LOCATION:University  of  Birmingham\, Birmingham\, Storbritannien (Förenade kungariket Storbritannien)
CATEGORIES:Neuro-ophthalmology
ATTACH;FMTTYPE=image/png:https://anbe.se/wp-content/uploads/EUNOS-logo_vectorized.png
END:VEVENT
BEGIN:VEVENT
DTSTART;VALUE=DATE:20220617
DTEND;VALUE=DATE:20220622
DTSTAMP:20260421T210159
CREATED:20210613T185159Z
LAST-MODIFIED:20221002T151925Z
UID:370-1655424000-1655855999@anbe.se
SUMMARY:ISOO 2022 (International Society of Ocular Oncology)
DESCRIPTION:
URL:https://anbe.se/event/isoo-2002/
LOCATION:Leiden\, Nederländerna
CATEGORIES:Oncology
ATTACH;FMTTYPE=image/png:https://anbe.se/wp-content/uploads/ISOO.png
END:VEVENT
BEGIN:VEVENT
DTSTART;VALUE=DATE:20220615
DTEND;VALUE=DATE:20220620
DTSTAMP:20260421T210159
CREATED:20211204T125322Z
LAST-MODIFIED:20211204T125504Z
UID:605-1655251200-1655683199@anbe.se
SUMMARY:Optometry's Meeting
DESCRIPTION:
URL:https://anbe.se/event/optometrys-meeting/
LOCATION:Chicago\, IL\, Förenta Staterna\, USA
CATEGORIES:Optometry
ATTACH;FMTTYPE=image/png:https://anbe.se/wp-content/uploads/AOA.png
END:VEVENT
BEGIN:VEVENT
DTSTART;VALUE=DATE:20220609
DTEND;VALUE=DATE:20220612
DTSTAMP:20260421T210159
CREATED:20211210T162559Z
LAST-MODIFIED:20211210T162559Z
UID:621-1654732800-1654991999@anbe.se
SUMMARY:Retina International World Congress 2022
DESCRIPTION:
URL:https://anbe.se/event/retina-international-world-congress-2022/
LOCATION:Reykjavijk\, Island
ATTACH;FMTTYPE=image/png:https://anbe.se/wp-content/uploads/Retina-IntWorldCongr2022.png
END:VEVENT
BEGIN:VEVENT
DTSTART;VALUE=DATE:20220609
DTEND;VALUE=DATE:20220612
DTSTAMP:20260421T210159
CREATED:20210613T213056Z
LAST-MODIFIED:20211210T161832Z
UID:441-1654732800-1654991999@anbe.se
SUMMARY:NOK 20/22 (Nordic Congress of Ophthalmology)
DESCRIPTION:
URL:https://anbe.se/event/nok-20-22-nordic-congress-of-ophthalmology/
LOCATION:Reykjavijk\, Island
CATEGORIES:Ophthalmology
ATTACH;FMTTYPE=image/png:https://anbe.se/wp-content/uploads/NOK2022-logo.png
END:VEVENT
BEGIN:VEVENT
DTSTART;VALUE=DATE:20220608
DTEND;VALUE=DATE:20220612
DTSTAMP:20260421T210159
CREATED:20210613T193751Z
LAST-MODIFIED:20210925T085729Z
UID:384-1654646400-1654991999@anbe.se
SUMMARY:Annual Macula Society Meeting 2022
DESCRIPTION:
URL:https://anbe.se/event/annual-macula-society-meeting-2022/
LOCATION:Berlin\, Tyskland
CATEGORIES:Macula
ATTACH;FMTTYPE=image/png:https://anbe.se/wp-content/uploads/Macula_Society-logo.png
END:VEVENT
BEGIN:VEVENT
DTSTART;VALUE=DATE:20220604
DTEND;VALUE=DATE:20220608
DTSTAMP:20260421T210159
CREATED:20210606T203331Z
LAST-MODIFIED:20221001T094727Z
UID:208-1654300800-1654646399@anbe.se
SUMMARY:EGS 15th Congress
DESCRIPTION:
URL:https://anbe.se/event/15th-egs-congress/
LOCATION:Aten\, Grekland
CATEGORIES:Glaucoma
ATTACH;FMTTYPE=image/png:https://anbe.se/wp-content/uploads/EGS.png
END:VEVENT
BEGIN:VEVENT
DTSTART;VALUE=DATE:20220601
DTEND;VALUE=DATE:20220605
DTSTAMP:20260421T210159
CREATED:20210612T185133Z
LAST-MODIFIED:20210925T085454Z
UID:302-1654041600-1654387199@anbe.se
SUMMARY:EBAA (Eye Bank Association of America) Annual Meeting 2022
DESCRIPTION:
URL:https://anbe.se/event/eye-bank-association-of-america-annual-meeting/
LOCATION:Baltimore\, MD\, Förenta Staterna\, USA
CATEGORIES:Eye Banking
ATTACH;FMTTYPE=image/png:https://anbe.se/wp-content/uploads/EBAA-logo.png
END:VEVENT
BEGIN:VEVENT
DTSTART;VALUE=DATE:20220519
DTEND;VALUE=DATE:20220522
DTSTAMP:20260421T210159
CREATED:20210607T110321Z
LAST-MODIFIED:20210925T084807Z
UID:235-1652918400-1653177599@anbe.se
SUMMARY:AOS (American Ophthalmological Society) Annual Meeting 2022
DESCRIPTION:
URL:https://anbe.se/event/aos-american-ophthalmological-society-annual-meeting/
LOCATION:Colorado Springs\, CO
CATEGORIES:Ophthalmology
ATTACH;FMTTYPE=image/png:https://anbe.se/wp-content/uploads/AOS-logo.png
END:VEVENT
BEGIN:VEVENT
DTSTART;TZID=Europe/Stockholm:20220512T120000
DTEND;TZID=Europe/Stockholm:20220513T120000
DTSTAMP:20260421T210159
CREATED:20211031T131948Z
LAST-MODIFIED:20221002T203542Z
UID:566-1652356800-1652443200@anbe.se
SUMMARY:SGKS (Svenska Glaukomkirurgiska Sällskapet)
DESCRIPTION:Official language: Swedish. \nMå alla dina tryck vara låga – men inte för låga
URL:https://anbe.se/event/svenska-glaukomkirurgiska-sallskapet/
LOCATION:Göteborg\, Sverige
CATEGORIES:Glaucoma Surgery
ATTACH;FMTTYPE=image/png:https://anbe.se/wp-content/uploads/SGKS.png
END:VEVENT
BEGIN:VEVENT
DTSTART;VALUE=DATE:20220512
DTEND;VALUE=DATE:20220516
DTSTAMP:20260421T210159
CREATED:20210613T211425Z
LAST-MODIFIED:20210925T084559Z
UID:434-1652313600-1652659199@anbe.se
SUMMARY:Retina World Congress
DESCRIPTION:
URL:https://anbe.se/event/retina-world-congress/
LOCATION:Fort Lauderdale\, FL\, Förenta Staterna\, USA
CATEGORIES:Retina
ATTACH;FMTTYPE=image/jpeg:https://anbe.se/wp-content/uploads/Retina_World_Congress-logo.jpg
END:VEVENT
BEGIN:VEVENT
DTSTART;VALUE=DATE:20220512
DTEND;VALUE=DATE:20220514
DTSTAMP:20260421T210159
CREATED:20211210T160519Z
LAST-MODIFIED:20211210T160545Z
UID:616-1652313600-1652486399@anbe.se
SUMMARY:MRK (Medicinska Retinaklubbens) Vårmöte i Alvik
DESCRIPTION:
URL:https://anbe.se/event/mrk-medicinska-retinaklubbens-varmote-i-alvik/
CATEGORIES:Retina
ATTACH;FMTTYPE=image/jpeg:https://anbe.se/wp-content/uploads/MRK-logo.jpg
END:VEVENT
BEGIN:VEVENT
DTSTART;VALUE=DATE:20220501
DTEND;VALUE=DATE:20220506
DTSTAMP:20260421T210159
CREATED:20210606T121336Z
LAST-MODIFIED:20211210T170348Z
UID:120-1651363200-1651795199@anbe.se
SUMMARY:ARVO 2022
DESCRIPTION:
URL:https://anbe.se/event/arvo-2022/
LOCATION:Colorado Convention Center\, 700 14th St\, Denver\, CO\, 80202\, United States
CATEGORIES:Ophthalmology
ATTACH;FMTTYPE=image/jpeg:https://anbe.se/wp-content/uploads/arvo.jpg
END:VEVENT
BEGIN:VEVENT
DTSTART;VALUE=DATE:20220421
DTEND;VALUE=DATE:20220423
DTSTAMP:20260421T210159
CREATED:20211031T180436Z
LAST-MODIFIED:20211031T180511Z
UID:585-1650499200-1650671999@anbe.se
SUMMARY:UKEGS (UK and Éire Glaucoma Society) Conference 2022
DESCRIPTION:
URL:https://anbe.se/event/ukegs-uk-and-eire-glaucoma-society-conference-2022/
LOCATION:IET Birmingham: Austin Court\, Birmingham\, Storbritannien (Förenade kungariket Storbritannien)
CATEGORIES:Glaucoma
ATTACH;FMTTYPE=image/png:https://anbe.se/wp-content/uploads/UKEGS-logo.png
END:VEVENT
BEGIN:VEVENT
DTSTART;VALUE=DATE:20220402
DTEND;VALUE=DATE:20220404
DTSTAMP:20260421T210159
CREATED:20210612T193409Z
LAST-MODIFIED:20210612T193445Z
UID:316-1648857600-1649030399@anbe.se
SUMMARY:Frankfurt Retina Meeting 2022
DESCRIPTION:
URL:https://anbe.se/event/frankfurt-retina-meeting-2022/
LOCATION:Frankfurt am Mainz\, Tyskland
CATEGORIES:Retina
END:VEVENT
BEGIN:VEVENT
DTSTART;VALUE=DATE:20220324
DTEND;VALUE=DATE:20220327
DTSTAMP:20260421T210159
CREATED:20210612T150443Z
LAST-MODIFIED:20221001T094247Z
UID:255-1648080000-1648339199@anbe.se
SUMMARY:COPHy EU (Congress on Controversies in Ophthalmology: Europe) 12th Annual Congress
DESCRIPTION:
URL:https://anbe.se/event/12th-annual-congress-on-controversies-in-ophthalmology-europe-cophy-eu/
LOCATION:Lissabon\, Portugal
CATEGORIES:Ophthalmology
ATTACH;FMTTYPE=image/png:https://anbe.se/wp-content/uploads/COPHy-EU-logo.png
END:VEVENT
BEGIN:VEVENT
DTSTART;VALUE=DATE:20220323
DTEND;VALUE=DATE:20220328
DTSTAMP:20260421T210159
CREATED:20210606T122119Z
LAST-MODIFIED:20221001T095038Z
UID:134-1647993600-1648425599@anbe.se
SUMMARY:AAPOS 47th Annual Meeting 2022
DESCRIPTION:
URL:https://anbe.se/event/2022-aapos-47th-annual-meeting/
LOCATION:Scottsdale\, AZ\, Förenta Staterna\, USA
CATEGORIES:Pediatric,Strabismus
ATTACH;FMTTYPE=image/png:https://anbe.se/wp-content/uploads/AAPOS-Logo-CLR.png
END:VEVENT
BEGIN:VEVENT
DTSTART;VALUE=DATE:20220303
DTEND;VALUE=DATE:20220307
DTSTAMP:20260421T210159
CREATED:20210606T122953Z
LAST-MODIFIED:20210905T125558Z
UID:142-1646265600-1646611199@anbe.se
SUMMARY:AGS 2022
DESCRIPTION:
URL:https://anbe.se/event/ags-2022/
LOCATION:Nashville\, TN\, Förenta Staterna\, USA
CATEGORIES:Glaucoma
ATTACH;FMTTYPE=image/png:https://anbe.se/wp-content/uploads/AGS-logo.png
END:VEVENT
BEGIN:VEVENT
DTSTART;VALUE=DATE:20220218
DTEND;VALUE=DATE:20220221
DTSTAMP:20260421T210159
CREATED:20211210T161441Z
LAST-MODIFIED:20230323T103238Z
UID:618-1645142400-1645401599@anbe.se
SUMMARY:ESCRS Winter Meeting
DESCRIPTION:
URL:https://anbe.se/event/escrs-winter-meeting/
LOCATION:Centro de congressos do Algarve\, Vilamoura\, Algarve\, Portugal
CATEGORIES:Cataract,Refractive
ATTACH;FMTTYPE=image/png:https://anbe.se/wp-content/uploads/ESCRS.png
END:VEVENT
BEGIN:VEVENT
DTSTART;VALUE=DATE:20220212
DTEND;VALUE=DATE:20220218
DTSTAMP:20260421T210159
CREATED:20210613T194528Z
LAST-MODIFIED:20210905T125348Z
UID:390-1644624000-1645142399@anbe.se
SUMMARY:NANOS 48th Annual Meeting
DESCRIPTION:
URL:https://anbe.se/event/nanos-2022-48th-annual-meeting/
LOCATION:Austin\, TX\, United States
CATEGORIES:Neuro-ophthalmology
ATTACH;FMTTYPE=image/jpeg:https://anbe.se/wp-content/uploads/NANOS-logo.jpeg
END:VEVENT
BEGIN:VEVENT
DTSTART;VALUE=DATE:20220107
DTEND;VALUE=DATE:20220109
DTSTAMP:20260421T210159
CREATED:20211031T175003Z
LAST-MODIFIED:20221001T094551Z
UID:573-1641513600-1641686399@anbe.se
SUMMARY:AOP (Advanced Ophthalmologic Practice) congress 2022
DESCRIPTION:
URL:https://anbe.se/event/aop-advanced-ophthalmologic-practice-congress-2022/
LOCATION:Palais des Congrès\, Paris\, Frankrike
CATEGORIES:Ophthalmology
ATTACH;FMTTYPE=image/png:https://anbe.se/wp-content/uploads/AOP-logo.png
END:VEVENT
BEGIN:VEVENT
DTSTART;VALUE=DATE:20211202
DTEND;VALUE=DATE:20211204
DTSTAMP:20260421T210159
CREATED:20210926T082928Z
LAST-MODIFIED:20211031T181430Z
UID:549-1638403200-1638575999@anbe.se
SUMMARY:MRK (Medicinska Retinaklubben) Höstmöte
DESCRIPTION:
URL:https://anbe.se/event/mrk-medicinska-retinaklubben-hostmote/
CATEGORIES:Retina
ATTACH;FMTTYPE=image/jpeg:https://anbe.se/wp-content/uploads/MRK-logo.jpg
END:VEVENT
BEGIN:VEVENT
DTSTART;VALUE=DATE:20211126
DTEND;VALUE=DATE:20211128
DTSTAMP:20260421T210159
CREATED:20210613T193119Z
LAST-MODIFIED:20221001T094718Z
UID:379-1637884800-1638057599@anbe.se
SUMMARY:Journées d'Ophtalmologie Interactives 14e Meeting
DESCRIPTION:
URL:https://anbe.se/event/14e-journees-dophtalmologie-interactives/
LOCATION:Bordeaux\, Frankrike
CATEGORIES:Glaucoma
ATTACH;FMTTYPE=image/png:https://anbe.se/wp-content/uploads/JOI-14-logo.png
END:VEVENT
BEGIN:VEVENT
DTSTART;VALUE=DATE:20211124
DTEND;VALUE=DATE:20211128
DTSTAMP:20260421T210159
CREATED:20210613T132838Z
LAST-MODIFIED:20210905T121910Z
UID:354-1637712000-1638057599@anbe.se
SUMMARY:SOE 2021 - CANCELLED
DESCRIPTION:Next live meeting will be SOE 2023\, Thursday 15 – Saturday 17th June and will remain in Prague at the Congress Centre.
URL:https://anbe.se/event/soe-2021-cancelled/
LOCATION:Prague\, Czech Republic
CATEGORIES:Ophthalmology
ATTACH;FMTTYPE=image/png:https://anbe.se/wp-content/uploads/SOE-logo.png
END:VEVENT
BEGIN:VEVENT
DTSTART;VALUE=DATE:20211124
DTEND;VALUE=DATE:20211127
DTSTAMP:20260421T210159
CREATED:20210613T200642Z
LAST-MODIFIED:20221002T181030Z
UID:405-1637712000-1637971199@anbe.se
SUMMARY:OB (Ophthalmologica Belgica) Congress 2021
DESCRIPTION:
URL:https://anbe.se/event/ophthalmologica-belgica-congress/
LOCATION:Brüssel\, Germany
CATEGORIES:Ophthalmology
ATTACH;FMTTYPE=image/jpeg:https://anbe.se/wp-content/uploads/AOB-logo.jpg
END:VEVENT
END:VCALENDAR