BEGIN:VCALENDAR
VERSION:2.0
PRODID:-//Doktor Bergström - ECPv6.15.20//NONSGML v1.0//EN
CALSCALE:GREGORIAN
METHOD:PUBLISH
X-WR-CALNAME:Doktor Bergström
X-ORIGINAL-URL:https://anbe.se
X-WR-CALDESC:Händelser för Doktor Bergström
REFRESH-INTERVAL;VALUE=DURATION:PT1H
X-Robots-Tag:noindex
X-PUBLISHED-TTL:PT1H
BEGIN:VTIMEZONE
TZID:Europe/Stockholm
BEGIN:DAYLIGHT
TZOFFSETFROM:+0100
TZOFFSETTO:+0200
TZNAME:CEST
DTSTART:20200329T010000
END:DAYLIGHT
BEGIN:STANDARD
TZOFFSETFROM:+0200
TZOFFSETTO:+0100
TZNAME:CET
DTSTART:20201025T010000
END:STANDARD
BEGIN:DAYLIGHT
TZOFFSETFROM:+0100
TZOFFSETTO:+0200
TZNAME:CEST
DTSTART:20210328T010000
END:DAYLIGHT
BEGIN:STANDARD
TZOFFSETFROM:+0200
TZOFFSETTO:+0100
TZNAME:CET
DTSTART:20211031T010000
END:STANDARD
BEGIN:DAYLIGHT
TZOFFSETFROM:+0100
TZOFFSETTO:+0200
TZNAME:CEST
DTSTART:20220327T010000
END:DAYLIGHT
BEGIN:STANDARD
TZOFFSETFROM:+0200
TZOFFSETTO:+0100
TZNAME:CET
DTSTART:20221030T010000
END:STANDARD
BEGIN:DAYLIGHT
TZOFFSETFROM:+0100
TZOFFSETTO:+0200
TZNAME:CEST
DTSTART:20230326T010000
END:DAYLIGHT
BEGIN:STANDARD
TZOFFSETFROM:+0200
TZOFFSETTO:+0100
TZNAME:CET
DTSTART:20231029T010000
END:STANDARD
END:VTIMEZONE
BEGIN:VEVENT
DTSTART;VALUE=DATE:20220212
DTEND;VALUE=DATE:20220218
DTSTAMP:20260422T063414
CREATED:20210613T194528Z
LAST-MODIFIED:20210905T125348Z
UID:390-1644624000-1645142399@anbe.se
SUMMARY:NANOS 48th Annual Meeting
DESCRIPTION:
URL:https://anbe.se/event/nanos-2022-48th-annual-meeting/
LOCATION:Austin\, TX\, United States
CATEGORIES:Neuro-ophthalmology
ATTACH;FMTTYPE=image/jpeg:https://anbe.se/wp-content/uploads/NANOS-logo.jpeg
END:VEVENT
BEGIN:VEVENT
DTSTART;VALUE=DATE:20220107
DTEND;VALUE=DATE:20220109
DTSTAMP:20260422T063414
CREATED:20211031T175003Z
LAST-MODIFIED:20221001T094551Z
UID:573-1641513600-1641686399@anbe.se
SUMMARY:AOP (Advanced Ophthalmologic Practice) congress 2022
DESCRIPTION:
URL:https://anbe.se/event/aop-advanced-ophthalmologic-practice-congress-2022/
LOCATION:Palais des Congrès\, Paris\, Frankrike
CATEGORIES:Ophthalmology
ATTACH;FMTTYPE=image/png:https://anbe.se/wp-content/uploads/AOP-logo.png
END:VEVENT
BEGIN:VEVENT
DTSTART;VALUE=DATE:20211202
DTEND;VALUE=DATE:20211204
DTSTAMP:20260422T063414
CREATED:20210926T082928Z
LAST-MODIFIED:20211031T181430Z
UID:549-1638403200-1638575999@anbe.se
SUMMARY:MRK (Medicinska Retinaklubben) Höstmöte
DESCRIPTION:
URL:https://anbe.se/event/mrk-medicinska-retinaklubben-hostmote/
CATEGORIES:Retina
ATTACH;FMTTYPE=image/jpeg:https://anbe.se/wp-content/uploads/MRK-logo.jpg
END:VEVENT
BEGIN:VEVENT
DTSTART;VALUE=DATE:20211126
DTEND;VALUE=DATE:20211128
DTSTAMP:20260422T063414
CREATED:20210613T193119Z
LAST-MODIFIED:20221001T094718Z
UID:379-1637884800-1638057599@anbe.se
SUMMARY:Journées d'Ophtalmologie Interactives 14e Meeting
DESCRIPTION:
URL:https://anbe.se/event/14e-journees-dophtalmologie-interactives/
LOCATION:Bordeaux\, Frankrike
CATEGORIES:Glaucoma
ATTACH;FMTTYPE=image/png:https://anbe.se/wp-content/uploads/JOI-14-logo.png
END:VEVENT
BEGIN:VEVENT
DTSTART;VALUE=DATE:20211124
DTEND;VALUE=DATE:20211128
DTSTAMP:20260422T063414
CREATED:20210613T132838Z
LAST-MODIFIED:20210905T121910Z
UID:354-1637712000-1638057599@anbe.se
SUMMARY:SOE 2021 - CANCELLED
DESCRIPTION:Next live meeting will be SOE 2023\, Thursday 15 – Saturday 17th June and will remain in Prague at the Congress Centre.
URL:https://anbe.se/event/soe-2021-cancelled/
LOCATION:Prague\, Czech Republic
CATEGORIES:Ophthalmology
ATTACH;FMTTYPE=image/png:https://anbe.se/wp-content/uploads/SOE-logo.png
END:VEVENT
BEGIN:VEVENT
DTSTART;VALUE=DATE:20211124
DTEND;VALUE=DATE:20211127
DTSTAMP:20260422T063414
CREATED:20210613T200642Z
LAST-MODIFIED:20221002T181030Z
UID:405-1637712000-1637971199@anbe.se
SUMMARY:OB (Ophthalmologica Belgica) Congress 2021
DESCRIPTION:
URL:https://anbe.se/event/ophthalmologica-belgica-congress/
LOCATION:Brüssel\, Germany
CATEGORIES:Ophthalmology
ATTACH;FMTTYPE=image/jpeg:https://anbe.se/wp-content/uploads/AOB-logo.jpg
END:VEVENT
BEGIN:VEVENT
DTSTART;VALUE=DATE:20211113
DTEND;VALUE=DATE:20211114
DTSTAMP:20260422T063414
CREATED:20210612T151459Z
LAST-MODIFIED:20210905T121437Z
UID:261-1636761600-1636847999@anbe.se
SUMMARY:Cornea Subspeciality Day
DESCRIPTION:
URL:https://anbe.se/event/cornea-subspeciality-day/
LOCATION:New Orleans\, LA\, Förenta Staterna\, USA
CATEGORIES:Cornea
ATTACH;FMTTYPE=image/png:https://anbe.se/wp-content/uploads/Cornea-Society.png
END:VEVENT
BEGIN:VEVENT
DTSTART;VALUE=DATE:20211112
DTEND;VALUE=DATE:20211116
DTSTAMP:20260422T063414
CREATED:20210606T084321Z
LAST-MODIFIED:20221001T091227Z
UID:97-1636675200-1637020799@anbe.se
SUMMARY:AAO (American Academy of Ophthalmology) 2021
DESCRIPTION:
URL:https://anbe.se/event/aao-2021/
LOCATION:New Orleans Ernest N. Morial Convention Center\, New Orleans\, LA\, Förenta Staterna\, USA
CATEGORIES:Ophthalmology
ATTACH;FMTTYPE=image/png:https://anbe.se/wp-content/uploads/AAO-logo.png
END:VEVENT
BEGIN:VEVENT
DTSTART;VALUE=DATE:20211112
DTEND;VALUE=DATE:20211113
DTSTAMP:20260422T063414
CREATED:20210612T150841Z
LAST-MODIFIED:20221009T115555Z
UID:258-1636675200-1636761599@anbe.se
SUMMARY:Cornea and Eye Banking Forum
DESCRIPTION:
URL:https://anbe.se/event/cornea-and-eye-banking-forum/
LOCATION:New Orleans\, LA\, Förenta Staterna\, USA
CATEGORIES:Cornea,Eye Banking
ATTACH;FMTTYPE=image/png:https://anbe.se/wp-content/uploads/Cornea-Society.png
END:VEVENT
BEGIN:VEVENT
DTSTART;VALUE=DATE:20211110
DTEND;VALUE=DATE:20211113
DTSTAMP:20260422T063414
CREATED:20210613T214841Z
LAST-MODIFIED:20221002T192018Z
UID:450-1636502400-1636761599@anbe.se
SUMMARY:UKISCRS (United Kingdom and Ireland Society of Cataract and Refractive Surgeons) 45th Annual Congress
DESCRIPTION:
URL:https://anbe.se/event/45th-annual-congress-of-ukiscrs-united-kingdom-and-ireland-society-of-cataract-and-refractive-surgeons/
LOCATION:Hinckley\, Storbritannien (Förenade kungariket Storbritannien)
CATEGORIES:Cataract,Refractive
ATTACH;FMTTYPE=image/png:https://anbe.se/wp-content/uploads/UKISCRS.png
END:VEVENT
BEGIN:VEVENT
DTSTART;VALUE=DATE:20211103
DTEND;VALUE=DATE:20211107
DTSTAMP:20260422T063414
CREATED:20210607T104432Z
LAST-MODIFIED:20210905T091056Z
UID:218-1635897600-1636243199@anbe.se
SUMMARY:AAOpt (American Academy of Optometry) - Boston 2021
DESCRIPTION:
URL:https://anbe.se/event/american-academy-of-optometry-boston-2021/
LOCATION:Boston\, MA\, United States
CATEGORIES:Optometry
ATTACH;FMTTYPE=image/png:https://anbe.se/wp-content/uploads/aaopt.png
END:VEVENT
BEGIN:VEVENT
DTSTART;VALUE=DATE:20211022
DTEND;VALUE=DATE:20211024
DTSTAMP:20260422T063414
CREATED:20210606T202002Z
LAST-MODIFIED:20210714T120539Z
UID:205-1634860800-1635033599@anbe.se
SUMMARY:EGS Members' Meeting 2021
DESCRIPTION:Closed meeting\, only for members.
URL:https://anbe.se/event/egs-members-meeting-2021/
CATEGORIES:Glaucoma
ATTACH;FMTTYPE=image/png:https://anbe.se/wp-content/uploads/EGS.png
END:VEVENT
BEGIN:VEVENT
DTSTART;VALUE=DATE:20211021
DTEND;VALUE=DATE:20211023
DTSTAMP:20260422T063414
CREATED:20210613T210633Z
LAST-MODIFIED:20210926T081329Z
UID:431-1634774400-1634947199@anbe.se
SUMMARY:SÖF 2021 (Sveriges Ögonläkarförenings årsmöte) - Digitalt
DESCRIPTION:
URL:https://anbe.se/event/sof-2021-sveriges-ogonlakarforenings-arsmote-digitalt/
LOCATION:Virtual
CATEGORIES:Ophthalmology
ATTACH;FMTTYPE=image/png:https://anbe.se/wp-content/uploads/SOF-logo.png
END:VEVENT
BEGIN:VEVENT
DTSTART;VALUE=DATE:20211008
DTEND;VALUE=DATE:20211013
DTSTAMP:20260422T063414
CREATED:20210606T143337Z
LAST-MODIFIED:20210714T120052Z
UID:174-1633651200-1634083199@anbe.se
SUMMARY:ASRS 39th Annual Scientific Meeting
DESCRIPTION:
URL:https://anbe.se/event/asrs-39th-annual-scientific-meeting/
LOCATION:San Antonio\, TX\, Förenta Staterna\, USA
CATEGORIES:Retina
ATTACH;FMTTYPE=image/png:https://anbe.se/wp-content/uploads/ASRS.png
END:VEVENT
BEGIN:VEVENT
DTSTART;VALUE=DATE:20211008
DTEND;VALUE=DATE:20211012
DTSTAMP:20260422T063414
CREATED:20210612T152757Z
LAST-MODIFIED:20221001T095519Z
UID:269-1633651200-1633996799@anbe.se
SUMMARY:ESCRS (European Society of Cataract and Refractive Surgeons) 39th Congress
DESCRIPTION:
URL:https://anbe.se/event/39th-congress-of-the-escrs/
LOCATION:Amsterdam\, Nederländerna
CATEGORIES:Cataract,Refractive
ATTACH;FMTTYPE=image/png:https://anbe.se/wp-content/uploads/ESCRS.png
END:VEVENT
BEGIN:VEVENT
DTSTART;VALUE=DATE:20211006
DTEND;VALUE=DATE:20211010
DTSTAMP:20260422T063414
CREATED:20210613T160111Z
LAST-MODIFIED:20211031T181759Z
UID:361-1633478400-1633823999@anbe.se
SUMMARY:Concepts and Breakthroughs in Glaucoma
DESCRIPTION:
URL:https://anbe.se/event/concepts-and-breakthroughs-in-glaucoma/
LOCATION:Atlanta\, GA\, Förenta Staterna\, USA
CATEGORIES:Glaucoma
END:VEVENT
BEGIN:VEVENT
DTSTART;VALUE=DATE:20211006
DTEND;VALUE=DATE:20211009
DTSTAMP:20260422T063414
CREATED:20210606T203837Z
LAST-MODIFIED:20221002T094723Z
UID:211-1633478400-1633737599@anbe.se
SUMMARY:BIPOSA Virtual Meeting
DESCRIPTION:
URL:https://anbe.se/event/biposa-virtual-meeting/
LOCATION:Virtual
CATEGORIES:Pediatric,Strabismus
ATTACH;FMTTYPE=image/png:https://anbe.se/wp-content/uploads/BIPOSA-e1664704798471.png
END:VEVENT
BEGIN:VEVENT
DTSTART;VALUE=DATE:20211002
DTEND;VALUE=DATE:20211003
DTSTAMP:20260422T063414
CREATED:20210612T161044Z
LAST-MODIFIED:20210714T073805Z
UID:296-1633132800-1633219199@anbe.se
SUMMARY:EVER (European Association for Vision and Eye Research) 2021 Virtual Congress
DESCRIPTION:
URL:https://anbe.se/event/ever-2021-virtual-congress/
LOCATION:Virtual
CATEGORIES:Ophthalmology
ATTACH;FMTTYPE=image/jpeg:https://anbe.se/wp-content/uploads/EVER.jpg
END:VEVENT
BEGIN:VEVENT
DTSTART;VALUE=DATE:20210930
DTEND;VALUE=DATE:20211004
DTSTAMP:20260422T063414
CREATED:20210612T204240Z
LAST-MODIFIED:20210714T074701Z
UID:341-1632960000-1633305599@anbe.se
SUMMARY:DOG 2021 Online
DESCRIPTION:
URL:https://anbe.se/event/dog-2021-online/
LOCATION:Virtual
CATEGORIES:Ophthalmology
ATTACH;FMTTYPE=image/png:https://anbe.se/wp-content/uploads/DOG.png
END:VEVENT
BEGIN:VEVENT
DTSTART;VALUE=DATE:20210927
DTEND;VALUE=DATE:20211003
DTSTAMP:20260422T063414
CREATED:20210612T184358Z
LAST-MODIFIED:20210714T073741Z
UID:300-1632700800-1633219199@anbe.se
SUMMARY:EVER (European Association for Vision and Eye Research) E-poster Week
DESCRIPTION:
URL:https://anbe.se/event/ever-european-association-for-vision-and-eye-research-e-poster-week/
LOCATION:Virtual
CATEGORIES:Ophthalmology
ATTACH;FMTTYPE=image/jpeg:https://anbe.se/wp-content/uploads/EVER.jpg
END:VEVENT
BEGIN:VEVENT
DTSTART;VALUE=DATE:20210925
DTEND;VALUE=DATE:20210926
DTSTAMP:20260422T063414
CREATED:20210612T154638Z
LAST-MODIFIED:20221001T094330Z
UID:283-1632528000-1632614399@anbe.se
SUMMARY:EuCornea 12th Congress Virtual Event
DESCRIPTION:
URL:https://anbe.se/event/12th-eucornea-congress-virtual-event/
LOCATION:Virtual
CATEGORIES:Cornea,Ocular Surface
ATTACH;FMTTYPE=image/png:https://anbe.se/wp-content/uploads/EuCornea.png
END:VEVENT
BEGIN:VEVENT
DTSTART;VALUE=DATE:20210923
DTEND;VALUE=DATE:20210925
DTSTAMP:20260422T063414
CREATED:20210613T205342Z
LAST-MODIFIED:20211031T180622Z
UID:426-1632355200-1632527999@anbe.se
SUMMARY:Svenska Glaukomsällskapets årliga möte
DESCRIPTION:Official  language: Swedish
URL:https://anbe.se/event/svenska-glaukomsallskapets-arliga-mote/
LOCATION:Umeå\, Sverige
CATEGORIES:Glaucoma
ATTACH;FMTTYPE=image/jpeg:https://anbe.se/wp-content/uploads/logoSGS.jpg
END:VEVENT
BEGIN:VEVENT
DTSTART;TZID=Europe/Stockholm:20210917T103000
DTEND;TZID=Europe/Stockholm:20210917T170000
DTSTAMP:20260422T063414
CREATED:20210706T140650Z
LAST-MODIFIED:20221002T180923Z
UID:473-1631874600-1631898000@anbe.se
SUMMARY:Danish Glaucoma Society\, Annual Meeting 2021
DESCRIPTION:
URL:https://anbe.se/event/annual-meeting-the-danish-glaucoma-society-2021/
LOCATION:Varna Palæet\, Ørneredevej 3\, Aarhus\, 8000\, Danmark
CATEGORIES:Glaucoma
ATTACH;FMTTYPE=image/png:https://anbe.se/wp-content/uploads/Dansk-GlaukomSelskab.png
END:VEVENT
BEGIN:VEVENT
DTSTART;VALUE=DATE:20210917
DTEND;VALUE=DATE:20210919
DTSTAMP:20260422T063414
CREATED:20210612T153811Z
LAST-MODIFIED:20210714T072800Z
UID:278-1631836800-1632009599@anbe.se
SUMMARY:ESOPRS (European Society of Ophthalmic Plastic and Reconstructive Surgery) Annual Meeting
DESCRIPTION:
URL:https://anbe.se/event/esoprs-european-society-of-ophthalmic-plastic-and-reconstructive-surgery-annual-meeting/
LOCATION:Virtual
CATEGORIES:Oculoplastic/Reconstructive
ATTACH;FMTTYPE=image/png:https://anbe.se/wp-content/uploads/ESOPRS.png
END:VEVENT
BEGIN:VEVENT
DTSTART;VALUE=DATE:20210911
DTEND;VALUE=DATE:20210912
DTSTAMP:20260422T063414
CREATED:20210905T084611Z
LAST-MODIFIED:20211031T181835Z
UID:498-1631318400-1631404799@anbe.se
SUMMARY:BSCRS  (Belgian Society of Cataract and Refractive Surgeons) Virtual Spring Meeting
DESCRIPTION:
URL:https://anbe.se/event/bscrs-belgian-society-of-cataract-and-refractive-surgeons-virtual-spring-meeting/
LOCATION:Virtual
CATEGORIES:Cataract,Refractive
ATTACH;FMTTYPE=image/png:https://anbe.se/wp-content/uploads/BSCRS_logo.png
ORGANIZER;CN="BSCRS (Belgian Society of Cataract and Refractive Surgeons)":MAILTO:BSCRS-membership@mci-group.com [BSCRS-membership@mci-group.com]
END:VEVENT
BEGIN:VEVENT
DTSTART;VALUE=DATE:20210910
DTEND;VALUE=DATE:20210913
DTSTAMP:20260422T063414
CREATED:20210613T195815Z
LAST-MODIFIED:20221002T154200Z
UID:403-1631232000-1631491199@anbe.se
SUMMARY:OAS (Ophthalmic Anesthesia Society) 35th Annual Scientific Conference
DESCRIPTION:
URL:https://anbe.se/event/35th-annual-oas-scientific-conference/
LOCATION:Chicago\, IL\, Förenta Staterna\, USA
CATEGORIES:Anesthesia
ATTACH;FMTTYPE=image/png:https://anbe.se/wp-content/uploads/OAS.png
END:VEVENT
BEGIN:VEVENT
DTSTART;VALUE=DATE:20210909
DTEND;VALUE=DATE:20210913
DTSTAMP:20260422T063414
CREATED:20210612T155840Z
LAST-MODIFIED:20221002T115516Z
UID:290-1631145600-1631491199@anbe.se
SUMMARY:EURETINA 2021 Virtual
DESCRIPTION:
URL:https://anbe.se/event/euretina-2021-virtual/
LOCATION:Virtual
CATEGORIES:Retina
ATTACH;FMTTYPE=image/png:https://anbe.se/wp-content/uploads/EURETINA-e1664711602759.png
END:VEVENT
BEGIN:VEVENT
DTSTART;VALUE=DATE:20210905
DTEND;VALUE=DATE:20210912
DTSTAMP:20260422T063414
CREATED:20210606T131133Z
LAST-MODIFIED:20221001T095456Z
UID:170-1630800000-1631404799@anbe.se
SUMMARY:APAO (Asia-Pacific Academy of Ophthalmology) 36th Congress
DESCRIPTION:
URL:https://anbe.se/event/36th-asia-pacific-academy-of-ophthalmology-congress/
LOCATION:Virtual
CATEGORIES:Ophthalmology
ATTACH;FMTTYPE=image/png:https://anbe.se/wp-content/uploads/APAO.png
END:VEVENT
BEGIN:VEVENT
DTSTART;VALUE=DATE:20210902
DTEND;VALUE=DATE:20210904
DTSTAMP:20260422T063414
CREATED:20210612T160338Z
LAST-MODIFIED:20221001T095647Z
UID:293-1630540800-1630713599@anbe.se
SUMMARY:ECLSO (European Contact Lens Society of Ophthalmologists) 49th Congress
DESCRIPTION:
URL:https://anbe.se/event/49th-eclso-european-contact-lens-society-of-ophthalmologists-congress/
LOCATION:Novotel Tour Eiffel\, 61 Quai de Grenelle\, Paris\, 75015\, Frankrike
CATEGORIES:Contact lenses
ATTACH;FMTTYPE=image/png:https://anbe.se/wp-content/uploads/ECLSO.png
END:VEVENT
BEGIN:VEVENT
DTSTART;VALUE=DATE:20210825
DTEND;VALUE=DATE:20210830
DTSTAMP:20260422T063414
CREATED:20210612T202458Z
LAST-MODIFIED:20221001T095211Z
UID:324-1629849600-1630281599@anbe.se
SUMMARY:Chinese Ophthalmological Society\, 26th Congress 2021
DESCRIPTION:
URL:https://anbe.se/event/26th-congress-of-chinese-ophthalmological-society-congress-2021/
CATEGORIES:Ophthalmology
END:VEVENT
END:VCALENDAR