BEGIN:VCALENDAR
VERSION:2.0
PRODID:-//Doktor Bergström - ECPv6.15.20//NONSGML v1.0//EN
CALSCALE:GREGORIAN
METHOD:PUBLISH
X-WR-CALNAME:Doktor Bergström
X-ORIGINAL-URL:https://anbe.se
X-WR-CALDESC:Händelser för Doktor Bergström
REFRESH-INTERVAL;VALUE=DURATION:PT1H
X-Robots-Tag:noindex
X-PUBLISHED-TTL:PT1H
BEGIN:VTIMEZONE
TZID:Europe/Stockholm
BEGIN:DAYLIGHT
TZOFFSETFROM:+0100
TZOFFSETTO:+0200
TZNAME:CEST
DTSTART:20210328T010000
END:DAYLIGHT
BEGIN:STANDARD
TZOFFSETFROM:+0200
TZOFFSETTO:+0100
TZNAME:CET
DTSTART:20211031T010000
END:STANDARD
BEGIN:DAYLIGHT
TZOFFSETFROM:+0100
TZOFFSETTO:+0200
TZNAME:CEST
DTSTART:20220327T010000
END:DAYLIGHT
BEGIN:STANDARD
TZOFFSETFROM:+0200
TZOFFSETTO:+0100
TZNAME:CET
DTSTART:20221030T010000
END:STANDARD
BEGIN:DAYLIGHT
TZOFFSETFROM:+0100
TZOFFSETTO:+0200
TZNAME:CEST
DTSTART:20230326T010000
END:DAYLIGHT
BEGIN:STANDARD
TZOFFSETFROM:+0200
TZOFFSETTO:+0100
TZNAME:CET
DTSTART:20231029T010000
END:STANDARD
BEGIN:DAYLIGHT
TZOFFSETFROM:+0100
TZOFFSETTO:+0200
TZNAME:CEST
DTSTART:20240331T010000
END:DAYLIGHT
BEGIN:STANDARD
TZOFFSETFROM:+0200
TZOFFSETTO:+0100
TZNAME:CET
DTSTART:20241027T010000
END:STANDARD
END:VTIMEZONE
BEGIN:VEVENT
DTSTART;VALUE=DATE:20230615
DTEND;VALUE=DATE:20230618
DTSTAMP:20260421T022325
CREATED:20221002T104521Z
LAST-MODIFIED:20221002T104529Z
UID:874-1686787200-1687046399@anbe.se
SUMMARY:DOC (Deutschen Ophthalmochirurgie) 35. Internationaler Kongress
DESCRIPTION:
URL:https://anbe.se/event/doc-deutschen-ophthalmochirurgie-35-internationaler-kongress/
LOCATION:Nürnberg\, Germany
CATEGORIES:Surgery
ATTACH;FMTTYPE=image/png:https://anbe.se/wp-content/uploads/DOC.png
END:VEVENT
BEGIN:VEVENT
DTSTART;VALUE=DATE:20230615
DTEND;VALUE=DATE:20230618
DTSTAMP:20260421T022325
CREATED:20210613T132337Z
LAST-MODIFIED:20221002T190250Z
UID:351-1686787200-1687046399@anbe.se
SUMMARY:SOE 2023
DESCRIPTION:
URL:https://anbe.se/event/soe-2023/
LOCATION:Prague\, Czech Republic
CATEGORIES:Ophthalmology
ATTACH;FMTTYPE=image/png:https://anbe.se/wp-content/uploads/SOE-logo.png
END:VEVENT
BEGIN:VEVENT
DTSTART;VALUE=DATE:20230526
DTEND;VALUE=DATE:20230529
DTSTAMP:20260421T022325
CREATED:20221002T112411Z
LAST-MODIFIED:20221002T113924Z
UID:888-1685059200-1685318399@anbe.se
SUMMARY:EuCornea 14th Congress
DESCRIPTION:
URL:https://anbe.se/event/eucornea-14th-congress/
LOCATION:Barcelona\, Spanien
CATEGORIES:Cornea,Ocular Surface
ATTACH;FMTTYPE=image/png:https://anbe.se/wp-content/uploads/EuCornea.2-e1664710753397.png
END:VEVENT
BEGIN:VEVENT
DTSTART;VALUE=DATE:20230525
DTEND;VALUE=DATE:20230527
DTSTAMP:20260421T022325
CREATED:20220922T090224Z
LAST-MODIFIED:20221002T203510Z
UID:751-1684972800-1685145599@anbe.se
SUMMARY:SGKS (Svenska Glaukomkirurgiska Sällskapet)
DESCRIPTION:Official language: Swedish
URL:https://anbe.se/event/svenska-glaukomkirurgiska-motet-official-language-swedish/
LOCATION:Göteborg\, Sverige
CATEGORIES:Glaucoma Surgery
ATTACH;FMTTYPE=image/png:https://anbe.se/wp-content/uploads/SGKS.png
END:VEVENT
BEGIN:VEVENT
DTSTART;VALUE=DATE:20230522
DTEND;VALUE=DATE:20230526
DTSTAMP:20260421T022325
CREATED:20221002T185629Z
LAST-MODIFIED:20221002T185629Z
UID:964-1684713600-1685059199@anbe.se
SUMMARY:RCO (Royal College of Ophthalmologists) Annual Congress 2023
DESCRIPTION:
URL:https://anbe.se/event/rco-royal-college-of-ophthalmologists-annual-congress-2023/
LOCATION:Birmingham\, Storbritannien (Förenade kungariket Storbritannien)
CATEGORIES:Ophthalmology
ATTACH;FMTTYPE=image/png:https://anbe.se/wp-content/uploads/RCO.png
END:VEVENT
BEGIN:VEVENT
DTSTART;VALUE=DATE:20230519
DTEND;VALUE=DATE:20230521
DTSTAMP:20260421T022325
CREATED:20210613T214202Z
LAST-MODIFIED:20210925T113734Z
UID:446-1684454400-1684627199@anbe.se
SUMMARY:NGM (Nordic Glaucoma Meeting) 2023
DESCRIPTION:
URL:https://anbe.se/event/ngm-nordic-glaucoma-meeting-2023/
LOCATION:Helsingfors\, Finland
CATEGORIES:Glaucoma
ATTACH;FMTTYPE=image/png:https://anbe.se/wp-content/uploads/NGM_2021_LOGO.png
END:VEVENT
BEGIN:VEVENT
DTSTART;VALUE=DATE:20230518
DTEND;VALUE=DATE:20230521
DTSTAMP:20260421T022325
CREATED:20210607T110522Z
LAST-MODIFIED:20210925T084852Z
UID:238-1684368000-1684627199@anbe.se
SUMMARY:AOS (American Ophthalmology Society) Annual Meeting 2023
DESCRIPTION:
URL:https://anbe.se/event/aos-american-ophthalmology-society-annual-meeting/
LOCATION:Asheville\, NC\, Förenta Staterna\, USA
CATEGORIES:Ophthalmology
ATTACH;FMTTYPE=image/png:https://anbe.se/wp-content/uploads/AOS-logo.png
END:VEVENT
BEGIN:VEVENT
DTSTART;VALUE=DATE:20230505
DTEND;VALUE=DATE:20230509
DTSTAMP:20260421T022325
CREATED:20221002T073809Z
LAST-MODIFIED:20221002T073809Z
UID:837-1683244800-1683590399@anbe.se
SUMMARY:ASCRS (American Society of Cataract and Refractive Surgery) 2023
DESCRIPTION:
URL:https://anbe.se/event/ascrs-american-society-of-cataract-and-refractive-surgery-2023/
LOCATION:San Diego\, CA\, United States
CATEGORIES:Cataract,Ophthalmology,Refractive
ATTACH;FMTTYPE=image/jpeg:https://anbe.se/wp-content/uploads/ASCRS.jpg
END:VEVENT
BEGIN:VEVENT
DTSTART;VALUE=DATE:20230423
DTEND;VALUE=DATE:20230428
DTSTAMP:20260421T022325
CREATED:20210606T121426Z
LAST-MODIFIED:20210702T090700Z
UID:125-1682208000-1682639999@anbe.se
SUMMARY:ARVO 2023
DESCRIPTION:
URL:https://anbe.se/event/arvo-2023/
LOCATION:New Orleans\, LA\, Förenta Staterna\, USA
CATEGORIES:Ophthalmology
ATTACH;FMTTYPE=image/jpeg:https://anbe.se/wp-content/uploads/arvo.jpg
END:VEVENT
BEGIN:VEVENT
DTSTART;VALUE=DATE:20230414
DTEND;VALUE=DATE:20230417
DTSTAMP:20260421T022325
CREATED:20221002T143513Z
LAST-MODIFIED:20221002T144052Z
UID:907-1681430400-1681689599@anbe.se
SUMMARY:Frankfurt Retina Meeting 2023
DESCRIPTION:
URL:https://anbe.se/event/frankfurt-retina-meeting-2023/
LOCATION:Rheingoldhalle Mainz\, Rheinstraße 66\, Mainz\, 55116\, Tyskland
CATEGORIES:Retina
END:VEVENT
BEGIN:VEVENT
DTSTART;VALUE=DATE:20230329
DTEND;VALUE=DATE:20230403
DTSTAMP:20260421T022325
CREATED:20210606T122544Z
LAST-MODIFIED:20221001T095050Z
UID:138-1680048000-1680479999@anbe.se
SUMMARY:AAPOS 48th Annual Meeting 2023
DESCRIPTION:
URL:https://anbe.se/event/2023-aapos-48th-annual-meeting/
LOCATION:New York City\, NY
CATEGORIES:Pediatric,Strabismus
ATTACH;FMTTYPE=image/png:https://anbe.se/wp-content/uploads/AAPOS-Logo-CLR.png
END:VEVENT
BEGIN:VEVENT
DTSTART;VALUE=DATE:20230324
DTEND;VALUE=DATE:20230326
DTSTAMP:20260421T022325
CREATED:20221002T103729Z
LAST-MODIFIED:20221002T103959Z
UID:870-1679616000-1679788799@anbe.se
SUMMARY:COPHy (Controversies in Ophthalmology) 14th Annual Congress
DESCRIPTION:
URL:https://anbe.se/event/cophy-controversies-in-ophthalmology-14th-annual-congress/
LOCATION:Lissabon\, Portugal
CATEGORIES:Ophthalmology
ATTACH;FMTTYPE=image/png:https://anbe.se/wp-content/uploads/COPHy.png
END:VEVENT
BEGIN:VEVENT
DTSTART;VALUE=DATE:20230317
DTEND;VALUE=DATE:20230321
DTSTAMP:20260421T022325
CREATED:20221001T212115Z
LAST-MODIFIED:20221001T212406Z
UID:828-1679011200-1679356799@anbe.se
SUMMARY:PAAO (Pan-American Association of Ophthalmology) 35th Congress
DESCRIPTION:
URL:https://anbe.se/event/paao-pan-american-association-of-ophthalmology-35th-congress/
LOCATION:Buenos Aires\, Argentina
CATEGORIES:Ophthalmology
ATTACH;FMTTYPE=image/png:https://anbe.se/wp-content/uploads/PAAO.png
END:VEVENT
BEGIN:VEVENT
DTSTART;VALUE=DATE:20230311
DTEND;VALUE=DATE:20230317
DTSTAMP:20260421T022325
CREATED:20210613T194730Z
LAST-MODIFIED:20210905T125401Z
UID:394-1678492800-1679011199@anbe.se
SUMMARY:NANOS 49th Annual Meeting
DESCRIPTION:
URL:https://anbe.se/event/nanos-49th-annual-meeting/
LOCATION:Orlando\, FL\, United States
CATEGORIES:Neuro-ophthalmology
ATTACH;FMTTYPE=image/jpeg:https://anbe.se/wp-content/uploads/NANOS-logo.jpeg
END:VEVENT
BEGIN:VEVENT
DTSTART;VALUE=DATE:20230310
DTEND;VALUE=DATE:20230313
DTSTAMP:20260421T022325
CREATED:20221002T110750Z
LAST-MODIFIED:20221002T110750Z
UID:882-1678406400-1678665599@anbe.se
SUMMARY:ESCRS (European Society of Cataract and Refractive Surgeons) 27th Winter Meeting
DESCRIPTION:
URL:https://anbe.se/event/escrs-european-society-of-cataract-and-refractive-surgeons-27th-winter-meeting/
LOCATION:Villamoura\, Portugal
CATEGORIES:Cataract,Refractive
ATTACH;FMTTYPE=image/png:https://anbe.se/wp-content/uploads/ESCRS.png
END:VEVENT
BEGIN:VEVENT
DTSTART;VALUE=DATE:20230309
DTEND;VALUE=DATE:20230312
DTSTAMP:20260421T022325
CREATED:20221002T193347Z
LAST-MODIFIED:20221002T193347Z
UID:975-1678320000-1678579199@anbe.se
SUMMARY:Wills Eye Hospital\, 75th Annual Conference 2023
DESCRIPTION:
URL:https://anbe.se/event/wills-eye-hospital-75th-annual-conference-2023/
LOCATION:Philadelphia\, PA\, Förenta Staterna\, USA
CATEGORIES:Ophthalmology
ATTACH;FMTTYPE=image/png:https://anbe.se/wp-content/uploads/WillsEyeHosp.png
END:VEVENT
BEGIN:VEVENT
DTSTART;VALUE=DATE:20230309
DTEND;VALUE=DATE:20230312
DTSTAMP:20260421T022325
CREATED:20221001T090140Z
LAST-MODIFIED:20221001T090140Z
UID:773-1678320000-1678579199@anbe.se
SUMMARY:ESOPRS (European Society of Ophthalmic Plastic and Reconstructive Surgery) Winter Meeting
DESCRIPTION:
URL:https://anbe.se/event/esoprs-european-society-of-ophthalmic-plastic-and-reconstructive-surgery-winter-meeting/
LOCATION:Andorra\, Andorra
CATEGORIES:Oculoplastic/Reconstructive,Ophthalmology
ATTACH;FMTTYPE=image/png:https://anbe.se/wp-content/uploads/ESOPRS.png
END:VEVENT
BEGIN:VEVENT
DTSTART;VALUE=DATE:20230302
DTEND;VALUE=DATE:20230306
DTSTAMP:20260421T022325
CREATED:20210606T123045Z
LAST-MODIFIED:20210905T125610Z
UID:146-1677715200-1678060799@anbe.se
SUMMARY:AGS 2023
DESCRIPTION:
URL:https://anbe.se/event/ags-2023/
LOCATION:Austin\, TX\, United States
CATEGORIES:Glaucoma
ATTACH;FMTTYPE=image/png:https://anbe.se/wp-content/uploads/AGS-logo.png
END:VEVENT
BEGIN:VEVENT
DTSTART;VALUE=DATE:20230223
DTEND;VALUE=DATE:20230227
DTSTAMP:20260421T022325
CREATED:20221001T211418Z
LAST-MODIFIED:20221001T211418Z
UID:825-1677110400-1677455999@anbe.se
SUMMARY:APAO (Asia-Pacific Academy of Ophthalmology) Congress 2023
DESCRIPTION:
URL:https://anbe.se/event/apao-asia-pacific-academy-of-ophthalmology-congress-2023/
LOCATION:Kuala Lumpur\, Malaysia
CATEGORIES:Ophthalmology
ATTACH;FMTTYPE=image/png:https://anbe.se/wp-content/uploads/APAO.png
END:VEVENT
BEGIN:VEVENT
DTSTART;VALUE=DATE:20230219
DTEND;VALUE=DATE:20230224
DTSTAMP:20260421T022325
CREATED:20221001T115550Z
LAST-MODIFIED:20221002T150311Z
UID:823-1676764800-1677196799@anbe.se
SUMMARY:ISER (International Society for Eye Research) XXV Biennial Meeting 2023
DESCRIPTION:
URL:https://anbe.se/event/iser-international-society-for-eye-research-xxv-biennial-meeting/
LOCATION:Gold Coast\, QLD\, Australien
CATEGORIES:Ophthalmology
ATTACH;FMTTYPE=image/png:https://anbe.se/wp-content/uploads/ISER-e1664722947492.png
END:VEVENT
BEGIN:VEVENT
DTSTART;VALUE=DATE:20230216
DTEND;VALUE=DATE:20230219
DTSTAMP:20260421T022325
CREATED:20210613T193932Z
LAST-MODIFIED:20221002T180902Z
UID:386-1676505600-1676764799@anbe.se
SUMMARY:Macula Society\, Annual Meeting 2023
DESCRIPTION:
URL:https://anbe.se/event/annuak-macula-society-meeting-2023/
LOCATION:Miami Beach\, Miami\, FL\, Förenta Staterna\, USA
CATEGORIES:Macula
ATTACH;FMTTYPE=image/png:https://anbe.se/wp-content/uploads/Macula_Society-logo.png
END:VEVENT
BEGIN:VEVENT
DTSTART;VALUE=DATE:20230203
DTEND;VALUE=DATE:20230205
DTSTAMP:20260421T022325
CREATED:20221001T093336Z
LAST-MODIFIED:20221001T094446Z
UID:787-1675382400-1675555199@anbe.se
SUMMARY:AOP (Advanced Ophthalmologic Practice) Congress 2023
DESCRIPTION:
URL:https://anbe.se/event/aop-advanced-ophthalmologic-practice-congress-2023/
LOCATION:Palais des Congrès\, Paris\, Frankrike
CATEGORIES:Ophthalmology
ATTACH;FMTTYPE=image/png:https://anbe.se/wp-content/uploads/AOP-logo.png
END:VEVENT
BEGIN:VEVENT
DTSTART;VALUE=DATE:20230101
DTEND;VALUE=DATE:20230102
DTSTAMP:20260421T022325
CREATED:20221002T111513Z
LAST-MODIFIED:20221002T201927Z
UID:885-1672531200-1672617599@anbe.se
SUMMARY:ESOPRS (European Society of Ophthalmic Plastic and Reconstructive Surgery) 41th Meeting
DESCRIPTION:Date not yet determined. Se https://www.esoprs.eu/esoprs-meetings/41st-esoprs-meeting-2023-in-naples/
URL:https://anbe.se/event/esoprs-european-society-of-ophthalmic-plastic-and-reconstructive-surgery-41th-meeting/
LOCATION:Neapel\, Italien
CATEGORIES:Oculoplastic/Reconstructive
ATTACH;FMTTYPE=image/png:https://anbe.se/wp-content/uploads/ESOPRS.png
END:VEVENT
BEGIN:VEVENT
DTSTART;VALUE=DATE:20221201
DTEND;VALUE=DATE:20221203
DTSTAMP:20260421T022325
CREATED:20220925T110627Z
LAST-MODIFIED:20221002T153110Z
UID:758-1669852800-1670025599@anbe.se
SUMMARY:MRK (Medicinska Retinaklubben) Höstmöte 2022
DESCRIPTION:Tema: Uvea \nOfficial language: Swedish
URL:https://anbe.se/event/mrk-medicinska-retinaklubben/
LOCATION:Stockholm\, Sverige
CATEGORIES:Retina
ATTACH;FMTTYPE=image/jpeg:https://anbe.se/wp-content/uploads/MRK-logo.jpg
END:VEVENT
BEGIN:VEVENT
DTSTART;VALUE=DATE:20221128
DTEND;VALUE=DATE:20221130
DTSTAMP:20260421T022325
CREATED:20221002T093448Z
LAST-MODIFIED:20221002T093448Z
UID:857-1669593600-1669766399@anbe.se
SUMMARY:SBCPO (Sociedade Brazileira de Cirurgia Plástica Ocular) Congresso 2022
DESCRIPTION:
URL:https://anbe.se/event/sbcpo-sociedade-brazileira-de-cirurgia-plastica-ocular-congresso-2022/
LOCATION:Centro de Convenções Rebouças\, São Paulo\, Brasilien
ATTACH;FMTTYPE=image/png:https://anbe.se/wp-content/uploads/SBCPO.png
END:VEVENT
BEGIN:VEVENT
DTSTART;VALUE=DATE:20221125
DTEND;VALUE=DATE:20221126
DTSTAMP:20260421T022326
CREATED:20221002T122031Z
LAST-MODIFIED:20221002T122031Z
UID:901-1669334400-1669420799@anbe.se
SUMMARY:MCLOSA (The Medical Contact Lens and Ocular Surface Association) Annual Scientific Meeting
DESCRIPTION:
URL:https://anbe.se/event/mclosa-the-medical-contact-lens-and-ocular-surface-association-annual-scientific-meeting/
LOCATION:Cavendish Comference Centre\, London\, Storbritannien (Förenade kungariket Storbritannien)
CATEGORIES:Contact lenses,Ocular Surface
ATTACH;FMTTYPE=image/png:https://anbe.se/wp-content/uploads/MCLOSA.png
END:VEVENT
BEGIN:VEVENT
DTSTART;VALUE=DATE:20221123
DTEND;VALUE=DATE:20221126
DTSTAMP:20260421T022326
CREATED:20221002T092015Z
LAST-MODIFIED:20221002T092205Z
UID:849-1669161600-1669420799@anbe.se
SUMMARY:ACS (Asia Cornea Society) 8th Biennial Scientific Meeting
DESCRIPTION:
URL:https://anbe.se/event/acs-asia-cornea-society-8th-biennial-scientific-meeting/
LOCATION:Bangkok\, Thailand
CATEGORIES:Cornea
ATTACH;FMTTYPE=image/png:https://anbe.se/wp-content/uploads/ACS.png
END:VEVENT
BEGIN:VEVENT
DTSTART;VALUE=DATE:20221123
DTEND;VALUE=DATE:20221126
DTSTAMP:20260421T022326
CREATED:20210613T200809Z
LAST-MODIFIED:20221002T181052Z
UID:410-1669161600-1669420799@anbe.se
SUMMARY:OB (Ophthalmologica Belgica) Congress 2022
DESCRIPTION:
URL:https://anbe.se/event/ophthalmologica-belgica-congress-2022/
LOCATION:Brüssel\, Germany
CATEGORIES:Ophthalmology
ATTACH;FMTTYPE=image/jpeg:https://anbe.se/wp-content/uploads/AOB-logo.jpg
END:VEVENT
BEGIN:VEVENT
DTSTART;VALUE=DATE:20221118
DTEND;VALUE=DATE:20221121
DTSTAMP:20260421T022326
CREATED:20221002T145151Z
LAST-MODIFIED:20221002T145151Z
UID:912-1668729600-1668988799@anbe.se
SUMMARY:GSO (Glaucoma Society of India) Annual Conference 2022
DESCRIPTION:
URL:https://anbe.se/event/gso-glaucoma-society-of-india-annual-conference-2022/
LOCATION:New Delhi\, Indien
CATEGORIES:Glaucoma
ATTACH;FMTTYPE=image/png:https://anbe.se/wp-content/uploads/GSI.png
END:VEVENT
BEGIN:VEVENT
DTSTART;VALUE=DATE:20221026
DTEND;VALUE=DATE:20221030
DTSTAMP:20260421T022326
CREATED:20210607T105017Z
LAST-MODIFIED:20211031T175448Z
UID:222-1666742400-1667087999@anbe.se
SUMMARY:AAOpt (American Academy of Optometry) - San Diego 2022
DESCRIPTION:
URL:https://anbe.se/event/aaopt-america-academy-of-optometry-san-diego-2022/
LOCATION:San Diego\, CA\, United States
CATEGORIES:Optometry
ATTACH;FMTTYPE=image/png:https://anbe.se/wp-content/uploads/aaopt.png
END:VEVENT
END:VCALENDAR