BEGIN:VCALENDAR
VERSION:2.0
PRODID:-//Doktor Bergström - ECPv6.15.20//NONSGML v1.0//EN
CALSCALE:GREGORIAN
METHOD:PUBLISH
X-ORIGINAL-URL:https://anbe.se
X-WR-CALDESC:Händelser för Doktor Bergström
REFRESH-INTERVAL;VALUE=DURATION:PT1H
X-Robots-Tag:noindex
X-PUBLISHED-TTL:PT1H
BEGIN:VTIMEZONE
TZID:Europe/Stockholm
BEGIN:DAYLIGHT
TZOFFSETFROM:+0100
TZOFFSETTO:+0200
TZNAME:CEST
DTSTART:20240331T010000
END:DAYLIGHT
BEGIN:STANDARD
TZOFFSETFROM:+0200
TZOFFSETTO:+0100
TZNAME:CET
DTSTART:20241027T010000
END:STANDARD
BEGIN:DAYLIGHT
TZOFFSETFROM:+0100
TZOFFSETTO:+0200
TZNAME:CEST
DTSTART:20250330T010000
END:DAYLIGHT
BEGIN:STANDARD
TZOFFSETFROM:+0200
TZOFFSETTO:+0100
TZNAME:CET
DTSTART:20251026T010000
END:STANDARD
BEGIN:DAYLIGHT
TZOFFSETFROM:+0100
TZOFFSETTO:+0200
TZNAME:CEST
DTSTART:20260329T010000
END:DAYLIGHT
BEGIN:STANDARD
TZOFFSETFROM:+0200
TZOFFSETTO:+0100
TZNAME:CET
DTSTART:20261025T010000
END:STANDARD
END:VTIMEZONE
BEGIN:VEVENT
DTSTART;VALUE=DATE:20250729
DTEND;VALUE=DATE:20250803
DTSTAMP:20260421T130755
CREATED:20240918T133010Z
LAST-MODIFIED:20241103T191007Z
UID:1083-1753747200-1754179199@anbe.se
SUMMARY:ASRS (American Society of Retina Specialists) 43rd Annual Meeting 2025
DESCRIPTION:
URL:https://anbe.se/event/asrs-american-society-of-retina-specialists-43rd-annual-meeting-2025/
LOCATION:Long Beach\, United States
CATEGORIES:Retina
ATTACH;FMTTYPE=image/png:https://anbe.se/wp-content/uploads/ASRS.png
END:VEVENT
BEGIN:VEVENT
DTSTART;VALUE=DATE:20250821
DTEND;VALUE=DATE:20250824
DTSTAMP:20260421T130755
CREATED:20240918T124737Z
LAST-MODIFIED:20241103T190956Z
UID:1055-1755734400-1755993599@anbe.se
SUMMARY:APACRS (Asia-Pacific Association of Cataract and Refractive Surgeons) 37th Annual Meeting
DESCRIPTION:
URL:https://anbe.se/event/apacrs-asia-pacific-association-of-cataract-and-refractive-surgeons-37th-annual-meeting/
LOCATION:Gandhinagar near Ahmedabad\, Gujarat\, India
CATEGORIES:Cataract,Refractive
ATTACH;FMTTYPE=image/gif:https://anbe.se/wp-content/uploads/APACRS-logo.gif
END:VEVENT
BEGIN:VEVENT
DTSTART;VALUE=DATE:20250828
DTEND;VALUE=DATE:20250831
DTSTAMP:20260421T130755
CREATED:20250323T204201Z
LAST-MODIFIED:20250323T204305Z
UID:1165-1756339200-1756598399@anbe.se
SUMMARY:NPOG (Nordic Pediatric Ophthalmology Group) and NSA (Nordic Strabismological Association)
DESCRIPTION:
URL:https://anbe.se/event/npog-nordic-pediatric-ophthalmology-group-and-nsa-nordic-strabismological-association/
LOCATION:Helsingfors\, Finland
END:VEVENT
END:VCALENDAR